BEGIN:VCALENDAR
VERSION:2.0
PRODID:-//Ateneo Mercantil de Valencia - ECPv6.0.4//NONSGML v1.0//EN
CALSCALE:GREGORIAN
METHOD:PUBLISH
X-ORIGINAL-URL:https://historico.ateneovalencia.es
X-WR-CALDESC:Eventos para Ateneo Mercantil de Valencia
REFRESH-INTERVAL;VALUE=DURATION:PT1H
X-Robots-Tag:noindex
X-PUBLISHED-TTL:PT1H
BEGIN:VTIMEZONE
TZID:Europe/Madrid
BEGIN:DAYLIGHT
TZOFFSETFROM:+0100
TZOFFSETTO:+0200
TZNAME:CEST
DTSTART:20220327T010000
END:DAYLIGHT
BEGIN:STANDARD
TZOFFSETFROM:+0200
TZOFFSETTO:+0100
TZNAME:CET
DTSTART:20221030T010000
END:STANDARD
END:VTIMEZONE
BEGIN:VEVENT
DTSTART;TZID=Europe/Madrid:20220131T190000
DTEND;TZID=Europe/Madrid:20220131T203000
DTSTAMP:20260421T162331
CREATED:20211218T093502Z
LAST-MODIFIED:20220131T131905Z
UID:66307-1643655600-1643661000@historico.ateneovalencia.es
SUMMARY:"La Muralla Musulmana de Valencia del s.XI - XII y su contexto histórico"
DESCRIPTION:El Ciclo de Conferencias trae hasta el Salón de Actos el próximo lunes 31 de enero a las 19 horas una tertulia sobre la muralla árabe de la Balansiya medieval\, que está de actualidad\, ya que el consistorio municipal valenciano está restaurándola y se ha podido identificar no sólo la muralla\, si no también antemuro\, la liza y el foso que discurría por delante de la fortificación y que en época bajomedieval se aprovechó para canalizar un brazo de la acequia de Rovella. \nEnlace de Youtube para Online: https://youtu.be/j9xKRp1a3f8\n\nLa conferencia llega bajo el título "La Muralla Musulmana de Valencia del s.XI - XII y su contexto histórico" y los ponentes serán el médico oftalmólogo y estudioso de la Valencia Antigua\, D. Andrés Riquelme\, y el arquitecto en edificación y urbanismo por la Escuela Superior de Arquitectos de Barcelona\, arquitecto municipal y una amplísima experiencia en rehabilitación de edificios históricos y monumentales\, D. Carlos Ballester. \nEn la conferencia se profundizará en su construcción en los siglos XI y XII en su contexto histórico\, ya que tras la caída del Califato de Córdoba\, a comienzos del siglo XI\, Valencia se convirtió en capital de la Taifa de Valencia\, y\, por lo tanto\, experimentó un importante crecimiento urbanístico. Eso provocó que la Balansiya se fortificará durante el reinado de Abd al-Aziz ibn Amir. \nLa muralla era de gran perfección y tenía siete puertas: Bab al-Qantara\, Bab al-Hanax\, Bab al-Qaysariya\, Bab Baytala\, Bab al-Xaria\, Bab Ibn-Sajar y Bab al-Warraq. Estaba construida de cemento y tenía torres semicirculares de obra hasta la última altura\, donde se abrían en una sala cercada. En la actualidad pueden verse todavía restos de algunas de estas torres en el actual barrio del Carmen. \nCartel:
URL:https://historico.ateneovalencia.es/evento/la-muralla-musulmana-de-valencia-del-s-xi-xii-y-su-contexto-historico/
LOCATION:Teatro Ateneo
CATEGORIES:Ciclo de Conferencias
ATTACH;FMTTYPE=image/jpeg:https://historico.ateneovalencia.es/wp-content/uploads/2021/12/20220131-La-Muralla-Musulmana-Valencia.jpg
END:VEVENT
END:VCALENDAR