BEGIN:VCALENDAR
VERSION:2.0
PRODID:-//Ateneo Mercantil de Valencia - ECPv6.0.4//NONSGML v1.0//EN
CALSCALE:GREGORIAN
METHOD:PUBLISH
X-WR-CALNAME:Ateneo Mercantil de Valencia
X-ORIGINAL-URL:https://historico.ateneovalencia.es
X-WR-CALDESC:Eventos para Ateneo Mercantil de Valencia
REFRESH-INTERVAL;VALUE=DURATION:PT1H
X-Robots-Tag:noindex
X-PUBLISHED-TTL:PT1H
BEGIN:VTIMEZONE
TZID:Europe/Madrid
BEGIN:DAYLIGHT
TZOFFSETFROM:+0100
TZOFFSETTO:+0200
TZNAME:CEST
DTSTART:20210328T010000
END:DAYLIGHT
BEGIN:STANDARD
TZOFFSETFROM:+0200
TZOFFSETTO:+0100
TZNAME:CET
DTSTART:20211031T010000
END:STANDARD
END:VTIMEZONE
BEGIN:VEVENT
DTSTART;TZID=Europe/Madrid:20210216T190000
DTEND;TZID=Europe/Madrid:20210216T203000
DTSTAMP:20260419T184626
CREATED:20210203T112548Z
LAST-MODIFIED:20210203T113301Z
UID:61994-1613502000-1613507400@historico.ateneovalencia.es
SUMMARY:Ciclo Conferencias: “La Senyera Valenciana\, Història i Simbolisme”
DESCRIPTION:El Ciclo Conferencias regresa al Ateneo Mercantil el próximo martes 16 de febrero a las 19 horas con la ponencia online "La Senyera Valenciana\, Història i Simbolisme" que ofrecerá el presidente del Casal Bernat i Baldovi\, vicepresidente de formación de Lo Rat Penat y Académico en RACV\, D. Òscar Rueda. Una conferencia que nos acercará la historia de la senyera valenciana y su contexto a lo largo de sus más de 600 años de su existencia. \nEnlace para la conferencia Online: https://zoom.us/j/99392582231\nPocos conocen que la Batalla de Almansa también tuvo como consecuencia una significativa represión simbólica: la Senyera Valenciana fue guardada en un arcón. Los vencedores\, abanderados de la centralización castellana\, la consideraban un símbolo de las libertades nacionales valencianas que debían ser olvidadas para siempre. Pero no lo consiguieron. La Senyera estaba bien arraigada entre los valencianos desde que nació en 1377\, por privilegio del rey Pedro el Ceremonioso. A pesar de la represión borbónica\, los valencianos mantuvieron viva la memoria de la Senyera durante el siglo XVIII hasta que Vicent Boix\, el gran precursor de la Renaixença\, la rescató definitivamente. \nLa Senyera fue protagonista principal de los orígenes del nacionalismo valenciano a principios del siglo XX\, de las manifestaciones pro Estatuto de los años 30 y en la posterior Guerra Civil\, como símbolo asociado al republicanismo. En los primeros años del franquismo\, la Senyera no fue tolerada pero el cariño popular hizo que fuera tímidamente reestablecido su uso\, lejos del protagonismo político que había tenido y que recuperaría en la transición. La historia de la Senyera es también la historia de la identidad valenciana. Y la vitalidad del símbolo es la medida de la vitalidad identitaria del pueblo. La Senyera\, 636 años después de su nacimiento\, tiene pendiente su gran reto: volver a ser símbolo de libertad y encabezar la supervivencia de los valencianos en un mundo globalizado y cada vez más homogeneizado. \nCartel:
URL:https://historico.ateneovalencia.es/evento/ciclo-conferencias-la-senyera-valenciana-historia-i-simbolisme/
LOCATION:On line
CATEGORIES:Ciclo de Conferencias
ATTACH;FMTTYPE=image/jpeg:https://historico.ateneovalencia.es/wp-content/uploads/2021/02/20210216-Senyera-Valenciana-Historia.jpg
END:VEVENT
END:VCALENDAR