BEGIN:VCALENDAR
VERSION:2.0
PRODID:-//Ateneo Mercantil de Valencia - ECPv6.0.4//NONSGML v1.0//EN
CALSCALE:GREGORIAN
METHOD:PUBLISH
X-WR-CALNAME:Ateneo Mercantil de Valencia
X-ORIGINAL-URL:https://historico.ateneovalencia.es
X-WR-CALDESC:Eventos para Ateneo Mercantil de Valencia
REFRESH-INTERVAL;VALUE=DURATION:PT1H
X-Robots-Tag:noindex
X-PUBLISHED-TTL:PT1H
BEGIN:VTIMEZONE
TZID:Europe/Madrid
BEGIN:DAYLIGHT
TZOFFSETFROM:+0100
TZOFFSETTO:+0200
TZNAME:CEST
DTSTART:20220327T010000
END:DAYLIGHT
BEGIN:STANDARD
TZOFFSETFROM:+0200
TZOFFSETTO:+0100
TZNAME:CET
DTSTART:20221030T010000
END:STANDARD
END:VTIMEZONE
BEGIN:VEVENT
DTSTART;TZID=Europe/Madrid:20220223T193000
DTEND;TZID=Europe/Madrid:20220223T210000
DTSTAMP:20260420T001601
CREATED:20220201T185441Z
LAST-MODIFIED:20220223T133444Z
UID:66801-1645644600-1645650000@historico.ateneovalencia.es
SUMMARY:Sensus Communis: "¿Está la Unión Europea capacitada para afrontar los retos actuales?"
DESCRIPTION:La próxima reunión del Foro Sensus Communis será el miércoles 23 de febrero a las 19.30 horas en la Sala de Ocio del Ateneo Mercantil (arriba de la chimenea del Salón Noble) . Una conferencia que llega bajo el título: "¿Está la Unión Europea capacitada para afrontar los retos actuales?" y que impartirá el Catedrático de Derecho Constitucional de la Universitat de València y Catedrático Jean Monenet “ad personam” de la Unión Europea\, el Prof. Dr. Antonio Bar Cendón. \nEl Prof. Antonio Bar fue el asesor jurídico y codirector del proyecto de la Unión Europea que llevó a la constitución y a la elección de la primera Autoridad Palestina\, entre los años 1994-1996. El Profesor Bar es un constitucionalista de reconocido prestigio internacional en el ámbito de la Unión Europea\, director de la Cátedra de Gobernanza Económica de la UE y miembro del grupo internacional Team Europe. \nLa Unión Europea se enfrenta a retos muy importantes actualmente. Tras el Brexit\, tiene retos tan complicados como la gestión de la llegada de los refugiados\, el terrorismo y fundamentalismo religioso\, la acentuación de los discursos xenófobos y populistas entre algunos estados miembros. Su posicionamiento en el conflicto prebélico entre Rusia y Ucrania con los problemas de abastecimiento de gas\, también las propuestas económicas de la Europa de las "dos velocidades". Lo que parece claro es que la educación es clave en el desarrollo de la Unión Europea: tanto por su contribución a la consolidación de la sociedad europea en torno a los valores de la paz y la solidaridad\, como por la necesidad de acercar y dar a conocer la Unión y sus éxitos a sus futuros ciudadanos. \nCartel:
URL:https://historico.ateneovalencia.es/evento/sensus-communis-esta-la-union-europea-capacitada-para-afrontar-los-retos-actuales/
LOCATION:Sala de Ocio - Ateneo Mercantil de Valencia\, Plaza del Ayuntamiento\, 18\, Valencia\, España\, Valencia\, Valencia\, 46002\, España
CATEGORIES:Sensus Communis
ATTACH;FMTTYPE=image/jpeg:https://historico.ateneovalencia.es/wp-content/uploads/2022/02/20220223-Sensus-Communis-Retos-Union-Europea.jpg
END:VEVENT
END:VCALENDAR