BEGIN:VCALENDAR
VERSION:2.0
PRODID:-//Ateneo Mercantil de Valencia - ECPv6.0.4//NONSGML v1.0//EN
CALSCALE:GREGORIAN
METHOD:PUBLISH
X-WR-CALNAME:Ateneo Mercantil de Valencia
X-ORIGINAL-URL:https://historico.ateneovalencia.es
X-WR-CALDESC:Eventos para Ateneo Mercantil de Valencia
REFRESH-INTERVAL;VALUE=DURATION:PT1H
X-Robots-Tag:noindex
X-PUBLISHED-TTL:PT1H
BEGIN:VTIMEZONE
TZID:Europe/Madrid
BEGIN:DAYLIGHT
TZOFFSETFROM:+0100
TZOFFSETTO:+0200
TZNAME:CEST
DTSTART:20230326T010000
END:DAYLIGHT
BEGIN:STANDARD
TZOFFSETFROM:+0200
TZOFFSETTO:+0100
TZNAME:CET
DTSTART:20231029T010000
END:STANDARD
END:VTIMEZONE
BEGIN:VEVENT
DTSTART;TZID=Europe/Madrid:20230101T190000
DTEND;TZID=Europe/Madrid:20230101T210000
DTSTAMP:20260419T212500
CREATED:20221109T120303Z
LAST-MODIFIED:20221111T110230Z
UID:71738-1672599600-1672606800@historico.ateneovalencia.es
SUMMARY:Gran Concierto de Año Nuevo por la Orquesta Sinfónica del Mediterráneo
DESCRIPTION:El Ateneo Mercantil de Valencia ha logrado nuevamente que el tradicional Gran Concierto de Año Nuevo de Valencia llegue hasta nuestro Salón de Actos el próximo domingo 1 de enero de 2023 a las 19 horas gracias al patrocinio de Caixa Popular y de Argimiro Joyero. El mejor concierto estas Navidades vendrá de nuevo al centro de Valencia\, a la Plaza del Ayuntamiento. \nUn evento que contará con la prestigiosa Orquesta Sinfónica del Mediterráneo dirigida por Juan Antonio Ramírez que ofrecerá un concierto único con un repertorio innovador\, en el que habrá baile clásico y varias sorpresas. \nSiente Viena en el Ateneo Mercantil de Valencia y revive la magia de Johann Strauss como nunca antes. No hay mejor regalo para estas Navidades que unas buenas entradas para el mejor concierto de música clásica de estas Navidades en Valencia. \nLa Orquesta Sinfónica del Mediterráneo es una de las mejores sinfónicas de la Comunitat Valenciana\, con un gran director y unos músicos de enorme prestigio en el mundo de la música. Disfruta de esta orquesta formada por prestigiosos músicos de la Comunidad Valenciana con gran experiencia profesional que ha maravillado en los anteriores conciertos de Navidad. \nVenta de entradas:\n\n\nEn taquillas del Ateneo Mercantil (Descuento 10% a socios del Ateneo)\n\n\nVenta Online en ateneovalencia.es: pincha aquí\n\n\nCartel:
URL:https://historico.ateneovalencia.es/evento/gran-concierto-de-ano-nuevo-por-la-orquesta-sinfonica-del-mediterraneo/
LOCATION:Teatro Ateneo
CATEGORIES:Conciertos y Recitales
ATTACH;FMTTYPE=image/jpeg:https://historico.ateneovalencia.es/wp-content/uploads/2022/11/20230101-Concierto-de-Ano-Nuevo-2022.jpg
END:VEVENT
END:VCALENDAR