BEGIN:VCALENDAR
VERSION:2.0
PRODID:-//Ateneo Mercantil de Valencia - ECPv6.0.4//NONSGML v1.0//EN
CALSCALE:GREGORIAN
METHOD:PUBLISH
X-WR-CALNAME:Ateneo Mercantil de Valencia
X-ORIGINAL-URL:https://historico.ateneovalencia.es
X-WR-CALDESC:Eventos para Ateneo Mercantil de Valencia
REFRESH-INTERVAL;VALUE=DURATION:PT1H
X-Robots-Tag:noindex
X-PUBLISHED-TTL:PT1H
BEGIN:VTIMEZONE
TZID:Europe/Madrid
BEGIN:DAYLIGHT
TZOFFSETFROM:+0100
TZOFFSETTO:+0200
TZNAME:CEST
DTSTART:20250330T010000
END:DAYLIGHT
BEGIN:STANDARD
TZOFFSETFROM:+0200
TZOFFSETTO:+0100
TZNAME:CET
DTSTART:20251026T010000
END:STANDARD
END:VTIMEZONE
BEGIN:VEVENT
DTSTART;TZID=Europe/Madrid:20250512T190000
DTEND;TZID=Europe/Madrid:20250512T203000
DTSTAMP:20260420T084149
CREATED:20250501T111723Z
LAST-MODIFIED:20250507T175121Z
UID:83776-1747076400-1747081800@historico.ateneovalencia.es
SUMMARY:Charla-Coloquio y Presentación del Libro: "Ponce y Valencia. Un romance de leyenda (1988-2024)"
DESCRIPTION:El próximo lunes 12 de mayo (19h.)\, el Ateneo Mercantil de Valencia acogerá un acto muy especial para el mundo del toreo y la cultura valenciana: la charla-coloquio "Ponce y Valencia. Un romance de leyenda (1988-2024)"\, protagonizada por el maestro Enrique Ponce\, figura imprescindible de la tauromaquia. \nOrganizado por el Centro de Asuntos Taurinos de la Diputación de Valencia\, este evento rendirá homenaje a la histórica y fecunda relación del torero de Chiva con la plaza de toros de Valencia\, un vínculo emocional y artístico que se extendió a lo largo de más de tres décadas y que encontró su punto final el pasado 9 de octubre de 2024\, en una tarde inolvidable que marcó su despedida del toreo en España. \nSerá el propio Enrique Ponce quien\, en primera persona\, repase los momentos más brillantes de su carrera en el coso de su tierra: faenas memorables\, triunfos apoteósicos y anécdotas que forman parte de la memoria colectiva de la afición valenciana. \nLa charla estará conducida por D. Ángel Berlanga Gago\, Técnico de Servicios Culturales de la Diputación de Valencia\, gran conocedor de la trayectoria del maestro y de la historia taurina de la Comunidad. \nPresentación del libro en sociedad\nComo complemento al coloquio\, se presentará oficialmente el libro "Ponce y Valencia. Un romance de leyenda (1988-2024)"\, una cuidada edición promovida por el Centro de Asuntos Taurinos como tributo a una figura irrepetible del toreo. Esta publicación recoge imágenes\, crónicas y testimonios sobre el vínculo único entre el diestro y su plaza\, convirtiéndose en una obra imprescindible para aficionados y estudiosos de la tauromaquia. \n📅 Lunes\, 12 de mayo de 2025🕖 19 h📍 Teatro Ateneo (3ª planta)\, Ateneo Mercantil de Valencia(Plaza del Ayuntamiento\, 18 – Valencia) \n🆓 Entrada libre hasta completar aforo. \nUn acto de reconocimiento\, memoria y emoción que ningún aficionado debería perderse. \nCartel:
URL:https://historico.ateneovalencia.es/evento/charla-coloquio-y-presentacion-del-libro-ponce-y-valencia-un-romance-de-leyenda-1988-2024/
LOCATION:Teatro Ateneo
ATTACH;FMTTYPE=image/jpeg:https://historico.ateneovalencia.es/wp-content/uploads/2025/05/20250512-Enrique-Ponce-Coloquio-y-Libro-Repaso-Carrera.jpg
END:VEVENT
END:VCALENDAR