BEGIN:VCALENDAR
VERSION:2.0
PRODID:-//Ateneo Mercantil de Valencia - ECPv6.0.4//NONSGML v1.0//EN
CALSCALE:GREGORIAN
METHOD:PUBLISH
X-WR-CALNAME:Ateneo Mercantil de Valencia
X-ORIGINAL-URL:https://historico.ateneovalencia.es
X-WR-CALDESC:Eventos para Ateneo Mercantil de Valencia
REFRESH-INTERVAL;VALUE=DURATION:PT1H
X-Robots-Tag:noindex
X-PUBLISHED-TTL:PT1H
BEGIN:VTIMEZONE
TZID:Europe/Madrid
BEGIN:DAYLIGHT
TZOFFSETFROM:+0100
TZOFFSETTO:+0200
TZNAME:CEST
DTSTART:20210328T010000
END:DAYLIGHT
BEGIN:STANDARD
TZOFFSETFROM:+0200
TZOFFSETTO:+0100
TZNAME:CET
DTSTART:20211031T010000
END:STANDARD
END:VTIMEZONE
BEGIN:VEVENT
DTSTART;TZID=Europe/Madrid:20211026T190000
DTEND;TZID=Europe/Madrid:20211026T203000
DTSTAMP:20260420T060609
CREATED:20210920T102952Z
LAST-MODIFIED:20211022T115405Z
UID:64938-1635274800-1635280200@historico.ateneovalencia.es
SUMMARY:Sensus Communis: "El Feminismo"
DESCRIPTION:Nueva reunión del Foro Sensus Communis el próximo martes 26 de octubre a las 19 horas en el Salón Sorolla. Se trata de una reunión que se realizará tanto presencial como online y el tema elegido es: "El Feminismo". La presentación se hará por el Profesor Dr. Chris Skowronski\, Profesor en el Departamento de Estudios Culturales de la Universidad de Opole\, y Manager de asuntos científicos del Berlin Practical Philosophy International Forum\, y también por el Dr. Carlos Climent\, Vicepresidente de la Fundación del Ateneo Mercantil de CV. \nEnlace para la conferencia online: https://us02web.zoom.us/j/83377076261\n\nEn el coloquio se desarrollará la historia del Feminismo desde sus inicios hasta la actualidad y se debatirá al respecto. Actualmente se debate acerca de la existencia o no existencia de una cuarta ola del feminismo\, y de cuál sería su agenda. Antes de hablar de definir una nueva ola de pensamiento y de corrientes críticas e intelectuales\, es importante considerar y analizar todo el recorrido del feminismo y se debe analizar las necesidades del momento en el que se encuentra este movimiento. \nLa primera ola del feminismo se sitúa durante el siglo XIX y hasta principios del siglo XX. La reivindicación principal de las feministas fue el derecho al voto\, pero también otros derechos civiles y políticos\, como el acceso a la educación. En España las mujeres apoyaron el fin de la esclavitud\, con figuras tan importantes como Concepción Arenal a la cabeza. \nEn la segunda ola del feminismo\, en las décadas de los 60 y 70\, se luchó por la desigualdad experimentada por las mujeres en lo social\, cultural y político\, y todo ello estaba ligado a la manera en la que llevaban sus propias vidas y reproducían en ellas estructuras de poder sexistas y opresoras para la mujer\, en el ámbito privado y en el público\, desde lo doméstico a lo laboral y social. \nMientras que la tercera ola del feminismo\, nacida en la década de los 90\, se define con un concepto central: interseccionalidad. El problema de la opresión de las mujeres se une a otros factores como la clase\, la sexualidad\, la etnia o la geografía. \nCartel:
URL:https://historico.ateneovalencia.es/evento/sensus-communis-el-feminismo/
LOCATION:Salón Sorolla - Ateneo Mercantil de Valencia\, Plaza del Ayuntamiento 18\, Valencia\, Valencia\, 46002\, España
CATEGORIES:Sensus Communis
ATTACH;FMTTYPE=image/jpeg:https://historico.ateneovalencia.es/wp-content/uploads/2021/09/20211026-Feminismo.jpg
END:VEVENT
END:VCALENDAR