BEGIN:VCALENDAR
VERSION:2.0
PRODID:-//Ateneo Mercantil de Valencia - ECPv6.0.4//NONSGML v1.0//EN
CALSCALE:GREGORIAN
METHOD:PUBLISH
X-WR-CALNAME:Ateneo Mercantil de Valencia
X-ORIGINAL-URL:https://historico.ateneovalencia.es
X-WR-CALDESC:Eventos para Ateneo Mercantil de Valencia
REFRESH-INTERVAL;VALUE=DURATION:PT1H
X-Robots-Tag:noindex
X-PUBLISHED-TTL:PT1H
BEGIN:VTIMEZONE
TZID:Europe/Madrid
BEGIN:DAYLIGHT
TZOFFSETFROM:+0100
TZOFFSETTO:+0200
TZNAME:CEST
DTSTART:20220327T010000
END:DAYLIGHT
BEGIN:STANDARD
TZOFFSETFROM:+0200
TZOFFSETTO:+0100
TZNAME:CET
DTSTART:20221030T010000
END:STANDARD
END:VTIMEZONE
BEGIN:VEVENT
DTSTART;TZID=Europe/Madrid:20220215T190000
DTEND;TZID=Europe/Madrid:20220215T203000
DTSTAMP:20260420T024318
CREATED:20220113T112102Z
LAST-MODIFIED:20220114T133427Z
UID:66566-1644951600-1644957000@historico.ateneovalencia.es
SUMMARY:Ciclo de Conferencias: "Fantasmas y vampiresas de Grecia y Roma"
DESCRIPTION:Adentrémonos sin miedo en estos misterios de la mano de Fernando Lillo Redonet. El Ciclo de Conferencias del Ateneo Mercantil llega el próximo martes 15 de febrero a las 19 horas con la ponencia Online "Fantasmas y vampiresas de Grecia y Roma". El Prof. Dr. Fernando Lillo Redonet es Doctor en Filología Clásica\, profesor en el IES San Tomé de Freixeiro\, escritor y miembro del grupo de recreación histórica MOS RELIGIOSVS. \nEnlace para la conferencia Online: https://youtu.be/4UrvM6D2qWk\nEn esta conferencia se realizará un viaje al mundo de los fantasmas y vampiresas\, pero también de magos y brujas de la Grecia Clásica y Roma. Es verdad que ha trascendido hasta nuestros días\, la racionalidad de los griegos y el sentido práctico de los romanos\, pero también hay una gran variedad de historias sobrenaturales que circulaban en la Antigüedad. \nFantasmas que visitan a los vivos\, muertos que vuelven a la vida\, casas encantadas\, campos de batalla en los que rondan los espectros\, criaturas misteriosas y licántropos eran tan populares en el Mundo Clásico como lo son hoy en día. Por otro lado griegos y romanos\, en su afán por conseguir seguridad y éxito en la vida\, acudían a magos y hechiceras que mediante sofisticados conjuros solventaban las necesidades de sus clientes. \nCurriculum de Fernando Lillo:\nFernando Lillo Redonet (Castellón de la Plana\, 1969) es Doctor en Filología Clásica\, profesor de Latín en el IES San Tomé de Freixeiro (Vigo) y autor de numerosos libros y artículos sobre el Mundo Antiguo. Es miembro del grupo de recreación histórica MOS RELIGIOSVS. Ha dedicado varias de sus obras a divulgar la vida cotidiana en la antigua Roma y en ciudades de Hispania mediante sus libros Un salmantino en Roma (1990)\, Noches Romanas (1991)\, Un salmantino en Mérida (1994) y Un salmantino en Segóbriga (1996). Ha sido pionero en España en los estudios sobre el cine de romanos con sus obras El cine de romanos y su aplicación didáctica (1994) y El cine de tema griego y su aplicación didáctica (1997). \nEs autor también de guías didácticas de películas como Gladiator\, Troya o Alejandro Magno. Su último libro en este campo es Héroes de Grecia y Roma en la pantalla (2010) en la colección Evohé Didaska. En esa misma colección ha publicado el libro Gladiadores: mito y realidad (2011). Es colaborador habitual de Historia National Geographic\, revista en la que ha publicado artículos y reseñas sobre el mundo griego y romano. \nEn su faceta de escritor es autor de las novelas Teucro\, el arquero de Troya (2004)\, Medulio. El Norte contra Roma (2005) y Séneca. El camino del sabio (2006). Desde hace unos años dirige el Taller de gladiadores de Lillus Maximus\, una actividad didáctica que acerca a los estudiantes al mundo de los gladiadores de un modo ameno y riguroso. \nCartel:
URL:https://historico.ateneovalencia.es/evento/ciclo-de-conferencias-fantasmas-y-vampiresas-de-grecia-y-roma/
LOCATION:On line
CATEGORIES:Ciclo de Conferencias
ATTACH;FMTTYPE=image/jpeg:https://historico.ateneovalencia.es/wp-content/uploads/2022/01/20220215-Lillo-Fantasmas-Grecia-y-Roma.jpg
END:VEVENT
END:VCALENDAR