BEGIN:VCALENDAR
VERSION:2.0
PRODID:-//Ateneo Mercantil de Valencia - ECPv6.0.4//NONSGML v1.0//EN
CALSCALE:GREGORIAN
METHOD:PUBLISH
X-ORIGINAL-URL:https://historico.ateneovalencia.es
X-WR-CALDESC:Eventos para Ateneo Mercantil de Valencia
REFRESH-INTERVAL;VALUE=DURATION:PT1H
X-Robots-Tag:noindex
X-PUBLISHED-TTL:PT1H
BEGIN:VTIMEZONE
TZID:Europe/Madrid
BEGIN:DAYLIGHT
TZOFFSETFROM:+0100
TZOFFSETTO:+0200
TZNAME:CEST
DTSTART:20230326T010000
END:DAYLIGHT
BEGIN:STANDARD
TZOFFSETFROM:+0200
TZOFFSETTO:+0100
TZNAME:CET
DTSTART:20231029T010000
END:STANDARD
END:VTIMEZONE
BEGIN:VEVENT
DTSTART;TZID=Europe/Madrid:20230208T193000
DTEND;TZID=Europe/Madrid:20230208T203000
DTSTAMP:20260420T002319
CREATED:20230204T131220Z
LAST-MODIFIED:20230206T104411Z
UID:72890-1675884600-1675888200@historico.ateneovalencia.es
SUMMARY:Sensus Communis: "Redescubriendo las redes. Padres de nuestro futuro"
DESCRIPTION:El Foro Sensus Communis en coordinación con el Foro Universitas de Análisis Social organizan un nuevo encuentro en el que se analizará el uso de las redes sociales en la sociedad. Bajo el titulo "Redescubriendo las redes. Padres de nuestro futuro"\, el médico e influencer Mario Gil Conesa nos hablará de como creció en redes\, qué le lleva a subir el contenido que sube\, cómo compagina su faceta de influencer con su faceta como médico\, y cómo las redes están cambiando a las personas y las formas de hacer las cosas\, resaltando desde su punto de vista como médico e influencer\, los aspectos que considera positivos y negativos de este nuevo escenario. \nMario Gil Conesa es TikToker\, también es conocido como "Marius Lekker". Alcanzó la popularidad por sus sketches de comedia y sus sketches de carácter familiar. Sus videos han acumulado más de 61 millones de visitas totales en YouTube. Publicó su primer TikTok el 8 de noviembre del 2020. Además de ser creador de TikTok\, también es médico y suele hacer humor relacionado con su profesión. Es el segundo de tres hermanos\, que a veces aparecen en sus videos. \nInscripciones para asistir a la conferencia pinchando aquí \nTítulo: "Redescubriendo las redes. Padres de nuestro futuro" \nPonente: Mario Gil Conesa (médico e influencer) \nDía: Miércoles 8 de febrero de 2023 \nHora: 19.30 horas \nSalón: Salón Sorolla \nEntrada libre y gratuita hasta completar aforo \nCartel:
URL:https://historico.ateneovalencia.es/evento/sensus-communis-redescubriendo-las-redes-padres-de-nuestro-futuro/
LOCATION:Salón Sorolla - Ateneo Mercantil de Valencia\, Plaza del Ayuntamiento 18\, Valencia\, Valencia\, 46002\, España
CATEGORIES:Sensus Communis
ATTACH;FMTTYPE=image/jpeg:https://historico.ateneovalencia.es/wp-content/uploads/2023/02/20230208-Sensus-Communis-Redes-Sociales-Mario-Gil-Conesa-1.jpg
END:VEVENT
BEGIN:VEVENT
DTSTART;TZID=Europe/Madrid:20230223T193000
DTEND;TZID=Europe/Madrid:20230223T210000
DTSTAMP:20260420T002319
CREATED:20230217T080448Z
LAST-MODIFIED:20230223T093951Z
UID:73122-1677180600-1677186000@historico.ateneovalencia.es
SUMMARY:Foro Sensus Communis: Mesa redonda: ¿Es posible una política cercana a la sociedad?
DESCRIPTION:El próximo jueves 23 de febrero a las 19.30 horas en el salón noble de la planta baja del Ateneo Mercantil de Valencia se celebra un nuevo encuentro del Foro Sensus Communis con motivo de un aniversario histórico para la democracia española y dada su proximidad con las elecciones valencianas\, desde FreeThinkers organiza una mesa redonda con representantes de las cuatro fuerzas políticas más representativas en el plano autonómico. \nDurante la charla\, se tratarán temas y debates acerca de la política moderna ¿Se aleja ésta de la realidad?\, ¿es posible una política cercana a la ciudadanía?\, ¿el debate y el trabajo conjunto por un interés mayor es posible entre fuerzas políticas? Y muchas preguntas más que se le realizarán a los diputados en las Cortes Valencianas: Pedro Ruiz (PSPV)\, Jesús Plá (Compromis)\, Verónica Marcos (PPCV) y José María Llanos (VOX). También desde el público se podrán realizar preguntas a los ponentes. \nNo olvidéis inscribiros en el siguiente enlace:\nhttps://docs.google.com/forms/d/e/1FAIpQLSf9tIIQI3mkamRdUhxZttfIaTZN4wFbGIbXzOd53cro2KSPaw/viewform?usp=sf_link \nCartel:\n 
URL:https://historico.ateneovalencia.es/evento/foro-sensus-communis-mesa-redonda-es-posible-una-politica-cercana-a-la-sociedad/
LOCATION:Salón Noble - Ateneo Mercantil de Valencia\, Plaza del Ayuntamiento 18\, Valencia\, Valencia\, 46002\, España
CATEGORIES:Sensus Communis
ATTACH;FMTTYPE=image/jpeg:https://historico.ateneovalencia.es/wp-content/uploads/2023/02/20230223-Sensus-Communis-Politica-cerca-Sociedad.jpg
END:VEVENT
END:VCALENDAR