BEGIN:VCALENDAR
VERSION:2.0
PRODID:-//Ateneo Mercantil de Valencia - ECPv6.0.4//NONSGML v1.0//EN
CALSCALE:GREGORIAN
METHOD:PUBLISH
X-WR-CALNAME:Ateneo Mercantil de Valencia
X-ORIGINAL-URL:https://historico.ateneovalencia.es
X-WR-CALDESC:Eventos para Ateneo Mercantil de Valencia
REFRESH-INTERVAL;VALUE=DURATION:PT1H
X-Robots-Tag:noindex
X-PUBLISHED-TTL:PT1H
BEGIN:VTIMEZONE
TZID:Europe/Madrid
BEGIN:DAYLIGHT
TZOFFSETFROM:+0100
TZOFFSETTO:+0200
TZNAME:CEST
DTSTART:20230326T010000
END:DAYLIGHT
BEGIN:STANDARD
TZOFFSETFROM:+0200
TZOFFSETTO:+0100
TZNAME:CET
DTSTART:20231029T010000
END:STANDARD
END:VTIMEZONE
BEGIN:VEVENT
DTSTART;TZID=Europe/Madrid:20230420T193000
DTEND;TZID=Europe/Madrid:20230420T203000
DTSTAMP:20260419T191846
CREATED:20230418T084409Z
LAST-MODIFIED:20230419T102205Z
UID:73778-1682019000-1682022600@historico.ateneovalencia.es
SUMMARY:Sensus Communis: "¿Es realmente posible la reinserción?"
DESCRIPTION:Este próximo jueves 20 de abril de 2023 retomamos las sesiones del Foro Universitas-Sensus Communis y de FreeThinkers en el Ateneo Mercantil de Valencia. El invitado será el abogado penalista\, criminólogo y presidente de la Asociación Casal de la Pau\, Juan Molpeceres. La sesión llega bajo el título "¿Es realmente posible la reinserción"\, en donde se abordará la cuestión de la reinserción de personas que salen de prisión sin apoyo familiar ni recursos económicos. \nEnlace para el on-line: https://youtu.be/kYStAXEqaXw\nLa reinserción es el fin al que deben ir dirigidas las penas de prisión\, según lo que establece la Constitución española. Pero parece que la sociedad ha perdido el interés por la reinserción\, lo cual es un error\, ya que la misma no solo redunda en beneficio del condenado sino de toda la sociedad\, puesto que si el delincuente encuentra una opción de vida\, será mucho más improbable la reincidencia. \nTítulo: "¿Es realmente posible la reinserción" \nPonente: Juan Molpeceres Pastor \nDía: Jueves 20 de abril de 2023 \nHora: 19:30 horas \nSalón: Salón de Actos \nEntrada libre y gratuita hasta completar aforo. \nCartel:
URL:https://historico.ateneovalencia.es/evento/sensus-communis-es-realmente-posible-la-reinsercion/
LOCATION:Teatro Ateneo
CATEGORIES:Sensus Communis
ATTACH;FMTTYPE=image/jpeg:https://historico.ateneovalencia.es/wp-content/uploads/2023/04/20230420-Reinsercion-Sensus-1.jpg
END:VEVENT
END:VCALENDAR