BEGIN:VCALENDAR
VERSION:2.0
PRODID:-//Ateneo Mercantil de Valencia - ECPv6.0.4//NONSGML v1.0//EN
CALSCALE:GREGORIAN
METHOD:PUBLISH
X-WR-CALNAME:Ateneo Mercantil de Valencia
X-ORIGINAL-URL:https://historico.ateneovalencia.es
X-WR-CALDESC:Eventos para Ateneo Mercantil de Valencia
REFRESH-INTERVAL;VALUE=DURATION:PT1H
X-Robots-Tag:noindex
X-PUBLISHED-TTL:PT1H
BEGIN:VTIMEZONE
TZID:Europe/Madrid
BEGIN:DAYLIGHT
TZOFFSETFROM:+0100
TZOFFSETTO:+0200
TZNAME:CEST
DTSTART:20230326T010000
END:DAYLIGHT
BEGIN:STANDARD
TZOFFSETFROM:+0200
TZOFFSETTO:+0100
TZNAME:CET
DTSTART:20231029T010000
END:STANDARD
END:VTIMEZONE
BEGIN:VEVENT
DTSTART;TZID=Europe/Madrid:20230215T190000
DTEND;TZID=Europe/Madrid:20230215T203000
DTSTAMP:20260419T214459
CREATED:20221229T123737Z
LAST-MODIFIED:20230201T090422Z
UID:72584-1676487600-1676493000@historico.ateneovalencia.es
SUMMARY:La II Guerra Púnica. El inicio de la Romanización de la Península Ibérica
DESCRIPTION:La llegada de Roma a la Península Ibérica en el siglo III a.C se debe en un primer momento a la presencia cartaginesa en estas tierras\, en el contexto de las guerras púnicas. Con la llegada de los cartagineses a la Península Ibérica en busca de provisiones tras su derrota en la primera guerra púnica los territorios de la futura Hispania se convirtieron en el escenario de las dos siguientes guerras entre Roma y Cartago. \nEnlace para el Online: https://youtu.be/f6F5Nmszq5g\nLa conquista romana de la península se inicia en la segunda guerra púnica contra Cartago por el Mediterráneo occidental. Esta progresiva conquista se desarrolló en tres fases: La conquista de la fachada mediterránea\, los valles del Ebro y del Guadalquivir (218-170 a.C.); La conquista de la Meseta (155-133a.C); La conquista del norte peninsular (27-19 a.C.) con el propio emperador Octavio Augusto al frente en las guerras contra cántabros\, astures y galaicos. \nTítulo: "La II Guerra Púnica. El inicio de la Romanización de la Península Ibérica". \nConferenciante: Carlos-Alberto Precioso Estiguin. \nFecha: Miércoles 15 de febrero de 2023 \nHora: 19 horas \nLugar: Salón de Actos del Ateneo Mercantil de Valencia \nEntrada gratuita y libre hasta completar aforo. \nCurriculum abreviado de Carlos Alberto Precioso Estiguin:\nNacido en Valencia en 1964\, es licenciado en Derecho y en Geografía e Historia por la Universitat de Valencia. Especialista en Historia Militar. Funcionario de carrera y técnico de Administración General. Ha desempeñado diferentes puestos de trabajo en los Ayuntamientos de Sagunto y Valencia\, y como Asesor Jurídico en la Diputación Provincial de Valencia. Fue Subsecretario en las Consellerias de Cultura\, Educación y Deporte\, en la Conselleria de Turismo y en la Conselleria de Cultura y Deporte. \nCartel:\n \n 
URL:https://historico.ateneovalencia.es/evento/la-ii-guerra-punica-el-inicio-de-la-romanizacion-de-la-peninsula-iberica/
LOCATION:Teatro Ateneo
CATEGORIES:Ciclo de Conferencias
ATTACH;FMTTYPE=image/jpeg:https://historico.ateneovalencia.es/wp-content/uploads/2022/12/20230213-II-Guerra-Punica-1.jpg
END:VEVENT
END:VCALENDAR