BEGIN:VCALENDAR
VERSION:2.0
PRODID:-//Ateneo Mercantil de Valencia - ECPv6.0.4//NONSGML v1.0//EN
CALSCALE:GREGORIAN
METHOD:PUBLISH
X-WR-CALNAME:Ateneo Mercantil de Valencia
X-ORIGINAL-URL:https://historico.ateneovalencia.es
X-WR-CALDESC:Eventos para Ateneo Mercantil de Valencia
REFRESH-INTERVAL;VALUE=DURATION:PT1H
X-Robots-Tag:noindex
X-PUBLISHED-TTL:PT1H
BEGIN:VTIMEZONE
TZID:Europe/Madrid
BEGIN:DAYLIGHT
TZOFFSETFROM:+0100
TZOFFSETTO:+0200
TZNAME:CEST
DTSTART:20250330T010000
END:DAYLIGHT
BEGIN:STANDARD
TZOFFSETFROM:+0200
TZOFFSETTO:+0100
TZNAME:CET
DTSTART:20251026T010000
END:STANDARD
END:VTIMEZONE
BEGIN:VEVENT
DTSTART;TZID=Europe/Madrid:20250103T190000
DTEND;TZID=Europe/Madrid:20250103T203000
DTSTAMP:20260419T233853
CREATED:20241129T084857Z
LAST-MODIFIED:20241204T092413Z
UID:82319-1735930800-1735936200@historico.ateneovalencia.es
SUMMARY:Concierto Especial y Solidario: SANDRA VALERO | Presentación de su primer disco
DESCRIPTION:La increíble Sandra Valero\, subcampeona del Festival de Eurovisión Junior 2023\, te invita a una noche mágica para presentar su primer disco. Una oportunidad única de disfrutar de su extraordinario talento y de apoyar a una artista que ha superado las adversidades tras las lluvias torrenciales que afectaron su hogar en Benetússer. \nNo te pierdas este concierto exclusivo donde Sandra interpretará las canciones de su esperado álbum debut. Una voz que conquistó a Europa y promete emocionar aún más cerca de casa. \nVenta de entradas aquí: https://acortar.link/Q7KoOP\n¡Reserva tu lugar ahora y vive una experiencia musical inolvidable! \nTickets - Del precio de las entradas 5€ irán destinados a los afectados de la Dana\n- Entrada general: 20 €\n- Entrada + CD: 30 € (el CD se entregará en la puerta del Teatro Ateneo presentando la entrada)\n* No se admiten devoluciones. \nEl Ateneo Mercantil de Valencia ha implementado todas las medidas necesarias para garantizar una visita cómoda y segura: desinfección y control de aforo. \nCartel:
URL:https://historico.ateneovalencia.es/evento/concierto-especial-y-solidario-sandra-valero-presentacion-de-su-primer-disco/
LOCATION:Teatro Ateneo
CATEGORIES:Conciertos y Recitales,Navidad
ATTACH;FMTTYPE=image/jpeg:https://historico.ateneovalencia.es/wp-content/uploads/2024/11/20250103-Sandra-Valero-Concierto.jpg
END:VEVENT
END:VCALENDAR