BEGIN:VCALENDAR
VERSION:2.0
PRODID:-//Ateneo Mercantil de Valencia - ECPv6.0.4//NONSGML v1.0//EN
CALSCALE:GREGORIAN
METHOD:PUBLISH
X-WR-CALNAME:Ateneo Mercantil de Valencia
X-ORIGINAL-URL:https://historico.ateneovalencia.es
X-WR-CALDESC:Eventos para Ateneo Mercantil de Valencia
REFRESH-INTERVAL;VALUE=DURATION:PT1H
X-Robots-Tag:noindex
X-PUBLISHED-TTL:PT1H
BEGIN:VTIMEZONE
TZID:Europe/Madrid
BEGIN:DAYLIGHT
TZOFFSETFROM:+0100
TZOFFSETTO:+0200
TZNAME:CEST
DTSTART:20230326T010000
END:DAYLIGHT
BEGIN:STANDARD
TZOFFSETFROM:+0200
TZOFFSETTO:+0100
TZNAME:CET
DTSTART:20231029T010000
END:STANDARD
END:VTIMEZONE
BEGIN:VEVENT
DTSTART;TZID=Europe/Madrid:20230201T190000
DTEND;TZID=Europe/Madrid:20230201T203000
DTSTAMP:20260420T033322
CREATED:20230112T123424Z
LAST-MODIFIED:20230112T123528Z
UID:72666-1675278000-1675283400@historico.ateneovalencia.es
SUMMARY:Tamerlán\, el último gran emperador de las estepas
DESCRIPTION:En la historia de Asia Central hay dos hombres que despiertan admiración Y terror. El primero fue Gengis Khan\, el caudillo mongol que logró la proeza de unificar a las tribus nómadas y crear uno de los imperios más extensos de la historia. El segundo es Amir Timur\, más conocido como Tamerlán\, que casi dos siglos después intentó repetir la proeza. Tamerlán fue el último gran emperador de las estepas y fue elevado a la categoría de héroe nacional en su tierra de origen\, el actual Uzbekistán. \nEnlace para el Online:\nTimur nació en Kesh\, en el actual Uzbekistán\, en una familia noble de los barlas\, un grupo turco-mongol que gobernaba la región histórica de Transoxiana. No se sabe mucho de su juventud\, pero su nombre Tamerlán proviene de Timür-e lang\, que en persa significa "Timur el cojo". Timur fue ganando poder hasta convertirse de facto en el líder militar que podía decidir quién conseguía la hegemonía. Tras muchos años de ejercer el poder desde la sombra\, en 1370\, Timur se proclamó emperador y restaurador del imperio mongol. \nA pesar de proclamarse heredero del imperio mongol\, su imperio nunca alcanzó ni de lejos la enorme extensión que llegó a conquistar Gengis Khan. En su apogeo se extendía desde el Cáucaso hasta el golfo de Omán y desde el Éufrates hasta el Indo\, con un corredor que penetraba hasta Delhi: en total\, 4.4 millones de kilómetros cuadrados frente a los 24 que llegó a tener el imperio mongol. \nTítulo: Tamerlán\, el último gran emperador de las estepas \nConferenciante: Prof. Dr. Alejandro Noguera Borel \nDía: Miércoles 1 de febrero de 2023 \nHora: 19 horas \nSalón: Salón de Actos \nEntrada libre y gratuita hasta completar aforo. \nCurriculum abreviado de Alejandro Noguera:\nLicenciado en Historia antigua por la Université de Paris IV – Sorbonne\, licenciado en Arqueología Clásica y oriental por l’École Pratique des Hautes Études de París\, Diplomado en lenguas clásicas y orientales por la Sorbonne y el Collège de France\, Máster en Museología por la Universidad Complutense y Doctor en Historia Antigua por la Universidad de Valencia. \nHa impartido clases en las Universidades de Valencia\, Politécnica de Valencia\, Cardenal Herrera-CEU San Pablo\, Universidad de Atenas y Fundación Libertas 7. Conferenciante. Es autor\, editor\, traductor\, corrector de numerosos libros y artículos tanto académicos como de divulgación tanto en español como en francés\, inglés\, italiano y valenciano. Actualmente colabora con diversos medios de comunicación en particular del grupo Prisa. \nPatrono de la Fundación Cañada Blanch\, directivo de Acción Cívica contra la corrupción\, ha sido ex-vicepresidente de UNESCO Valencia y colabora con numerosas instituciones culturales\, ONGs y ONLs culturales y sociales. \nSu labor en el mundo cultural ha sido reconocida por diversos premios como el Archival 2012\, el de docencia científica Unesco 2001\, el Flash Back 2013\, el Rotary a la labor consular 2020 entre otros. Ha sido desde 2017 hasta 2021 cónsul honorario de Francia en Valencia y Castellón. Es Director de la Fundación Libertas 7\, de L’Iber\, Museo de los soldaditos de plomo y del Instituto Valenciano de Estudios Clásicos y Orientales. \nCartel:\n \n 
URL:https://historico.ateneovalencia.es/evento/tamerlan-el-ultimo-gran-emperador-de-las-estepas/
LOCATION:Teatro Ateneo
CATEGORIES:Ciclo Grandes Conquistadores de la Historia
ATTACH;FMTTYPE=image/jpeg:https://historico.ateneovalencia.es/wp-content/uploads/2023/01/20230201-Tamerlan.jpg
END:VEVENT
END:VCALENDAR