BEGIN:VCALENDAR
VERSION:2.0
PRODID:-//Ateneo Mercantil de Valencia - ECPv6.0.4//NONSGML v1.0//EN
CALSCALE:GREGORIAN
METHOD:PUBLISH
X-WR-CALNAME:Ateneo Mercantil de Valencia
X-ORIGINAL-URL:https://historico.ateneovalencia.es
X-WR-CALDESC:Eventos para Ateneo Mercantil de Valencia
REFRESH-INTERVAL;VALUE=DURATION:PT1H
X-Robots-Tag:noindex
X-PUBLISHED-TTL:PT1H
BEGIN:VTIMEZONE
TZID:Europe/Madrid
BEGIN:DAYLIGHT
TZOFFSETFROM:+0100
TZOFFSETTO:+0200
TZNAME:CEST
DTSTART:20240331T010000
END:DAYLIGHT
BEGIN:STANDARD
TZOFFSETFROM:+0200
TZOFFSETTO:+0100
TZNAME:CET
DTSTART:20241027T010000
END:STANDARD
END:VTIMEZONE
BEGIN:VEVENT
DTSTART;TZID=Europe/Madrid:20241002T190000
DTEND;TZID=Europe/Madrid:20241002T203000
DTSTAMP:20260419T200415
CREATED:20240705T115306Z
LAST-MODIFIED:20240923T112004Z
UID:80750-1727895600-1727901000@historico.ateneovalencia.es
SUMMARY:El gran avance de la Policía Científica y su aplicación a casos célebres
DESCRIPTION:Estanislao García Moretó nos ofrecerá una introducción a las técnicas aplicadas\, por la Policía Científica\, a la investigación de los delitos\, con referencia a casos reales de fuerte repercusión\, que muestran la adaptación de la Policía a los cambios sociales de los últimos dos siglos\, con la enorme aceleración tecnológica del siglo XXI. \nEnlace para el Online: https://youtu.be/MO_2gTDPcnA\nLos avances científicos lo que han conseguido es que se impulsen las investigaciones criminales\, ya que se ha pasado de la recogida de huellas dactilares y la averiguación de grupos sanguíneos\, a sofisticados análisis de ADN\, que pueden rescatarse de muestras muy antiguas. \nTítulo: El gran avance de la Policía Científica y su aplicación a casos célebres \nConferenciante: Estanislao García Moretó. Inspector Jefe - Brigada Policía Científica. \nDía: Miércoles\, 2 de octubre de 2024 \nHora: 19 horas \nLugar: Teatro Ateneo \nEntrada libre y gratuita hasta completar aforo. \nCartel:
URL:https://historico.ateneovalencia.es/evento/el-gran-avance-de-la-policia-cientifica-y-su-aplicacion-a-casos-celebres/
LOCATION:Teatro Ateneo
CATEGORIES:Ciclo de Conferencias
ATTACH;FMTTYPE=image/jpeg:https://historico.ateneovalencia.es/wp-content/uploads/2024/07/20241002-Policia-Cientifica.jpg
END:VEVENT
END:VCALENDAR