BEGIN:VCALENDAR
VERSION:2.0
PRODID:-//Ateneo Mercantil de Valencia - ECPv6.0.4//NONSGML v1.0//EN
CALSCALE:GREGORIAN
METHOD:PUBLISH
X-ORIGINAL-URL:https://historico.ateneovalencia.es
X-WR-CALDESC:Eventos para Ateneo Mercantil de Valencia
REFRESH-INTERVAL;VALUE=DURATION:PT1H
X-Robots-Tag:noindex
X-PUBLISHED-TTL:PT1H
BEGIN:VTIMEZONE
TZID:Europe/Madrid
BEGIN:DAYLIGHT
TZOFFSETFROM:+0100
TZOFFSETTO:+0200
TZNAME:CEST
DTSTART:20220327T010000
END:DAYLIGHT
BEGIN:STANDARD
TZOFFSETFROM:+0200
TZOFFSETTO:+0100
TZNAME:CET
DTSTART:20221030T010000
END:STANDARD
END:VTIMEZONE
BEGIN:VEVENT
DTSTART;TZID=Europe/Madrid:20221108T170000
DTEND;TZID=Europe/Madrid:20221208T200000
DTSTAMP:20260421T200638
CREATED:20221027T162737Z
LAST-MODIFIED:20221028T080441Z
UID:71574-1667926800-1670529600@historico.ateneovalencia.es
SUMMARY:Exposición de González Alacreu: "REdescubriendo Valencia"
DESCRIPTION:Llega al Ateneo Mercantil de Valencia una exposición muy esperada por el público valenciano como es la del artista Juan González Alacreu. Una muestra de 26 cuadros realizados a lápiz de diferentes tamaños. Una idea que surgió el pasado mes de enero de 2022 cuando la Falla G. Esteve-C. Amorós le pidió un dibujo al pintor para el llibret del 75 aniversario de dicha Falla. \nPara aquel llibret encontró en la Plaza de Cánovas el monumento al Marqués de Campo. El artista pensó entonces en la gran cantidad de monumentos que están dispersos por las calles de la ciudad de Valencia\, todos ellos de artistas famosos y algunos con renombre universal; y entonces decidió dar el paso y hacer una exposición que recoja una mínima parte de todo lo que adornan las calles y plazas de la ciudad. \nEsta muestra se expondrá en el Ateneo Mercantil de Valencia durante un mes\, del 8 de noviembre al 8 de diciembre\, todos los días estará abierta al público en horario de 17 a 20 horas. La entrada es completamente gratuita. \nLa obra se ha realizado a lápiz y no a óleo\, toda vez que a lápiz define mejor lo que estamos presentando y que se puede admirar en la plaza o calle de la ciudad\, y que en definitiva se trata de una copia. \nTambién se pretende que el público que vea dicha obra\, entienda que no se ha pretendido mejorar lo visto en el original\, sino que el artista se adapta a lo que está en la plaza o calle\, y nunca pretender mejorarla sino más bien copiar del original. \nIgualmente se entiende que una visita a toda la ciudad\, daría para más lienzos\, toda vez que en la misma tenemos fachadas\, portalones\, iglesias y/o monumentos de un valor inmenso que siempre han enriquecido la ciudad de Valencia. \nCartel:
URL:https://historico.ateneovalencia.es/evento/exposicion-de-gonzalez-alacreu-redescubriendo-valencia/
LOCATION:Sala de Exposiciones - Ateneo Mercantil de Valencia\, Plaza del Ayuntamiento\, 18\, Valencia\, España\, Valencia\, Valencia\, 46002\, España
CATEGORIES:Exposiciones
ATTACH;FMTTYPE=image/jpeg:https://historico.ateneovalencia.es/wp-content/uploads/2022/10/20221108-GONZALEZ-ALACREU-EXPOSICION.jpg
END:VEVENT
END:VCALENDAR