BEGIN:VCALENDAR
VERSION:2.0
PRODID:-//Ateneo Mercantil de Valencia - ECPv6.0.4//NONSGML v1.0//EN
CALSCALE:GREGORIAN
METHOD:PUBLISH
X-ORIGINAL-URL:https://historico.ateneovalencia.es
X-WR-CALDESC:Eventos para Ateneo Mercantil de Valencia
REFRESH-INTERVAL;VALUE=DURATION:PT1H
X-Robots-Tag:noindex
X-PUBLISHED-TTL:PT1H
BEGIN:VTIMEZONE
TZID:Europe/Madrid
BEGIN:DAYLIGHT
TZOFFSETFROM:+0100
TZOFFSETTO:+0200
TZNAME:CEST
DTSTART:20250330T010000
END:DAYLIGHT
BEGIN:STANDARD
TZOFFSETFROM:+0200
TZOFFSETTO:+0100
TZNAME:CET
DTSTART:20251026T010000
END:STANDARD
END:VTIMEZONE
BEGIN:VEVENT
DTSTART;TZID=Europe/Madrid:20250529T110000
DTEND;TZID=Europe/Madrid:20250529T130000
DTSTAMP:20260423T174002
CREATED:20250519T164906Z
LAST-MODIFIED:20250519T164907Z
UID:83956-1748516400-1748523600@historico.ateneovalencia.es
SUMMARY:Visita Cultural: La Valencia Prohibida (Lupanar 'Dones Pecaminoses') y a la Iglesia de Sta. Úrsula
DESCRIPTION:El Ateneo Mercantil de Valencia organiza una nueva visita cultural gratuita dirigida a sus socios. En esta ocasión\, descubriremos los secretos y el patrimonio de la Valencia más desconocida y enigmática. La visita está programada para el jueves 29 de mayo a las 11 horas. \nEl Itinerario de la visita: \n\n\nLa Valencia Prohibida: Lupanar 'Dones Pecaminoses' \n\n\nIglesia de Santa Úrsula \n\n\n- Punto de encuentro: Puerta de la Iglesia del Carmen (Plaza del Carmen\, 1 - Valencia)- Hora de encuentro: 10:50 h- Inicio de la visita: 11:00 h- Plazas limitadas a 70 personas- Inscripciones en Secretaría del Ateneo Mercantil o llamando al 96.352.59.84- Guía: Rafael Solaz- Se ruega máxima puntualidad \n\nSobre los lugares que visitaremos:\nLupanar ‘Dones Pecaminoses’Durante siglos\, Valencia albergó uno de los lupanares más grandes de Europa\, conocido popularmente como 'Dones Pecaminoses'. Estaba ubicado en las inmediaciones del actual barrio del Carmen y formaba parte de la llamada Valencia Prohibida\, un espacio de tolerancia con más de 200 casas de citas reguladas. Este enclave es una parte fascinante y poco conocida de la historia social de la ciudad\, reflejo de una época en la que el control y la permisividad convivían de manera curiosa. \nIglesia de Santa ÚrsulaEste templo gótico\, fundado en el siglo XIII\, se sitúa muy cerca de la zona del antiguo lupanar\, y contrasta con su carga espiritual y artística. Perteneció al Real Monasterio de Santa Úrsula y conserva elementos arquitectónicos e históricos de gran valor. Su visita nos permitirá entender mejor el contexto religioso y moral que convivía con el mundo profano en la Valencia medieval. \nCartel:
URL:https://historico.ateneovalencia.es/evento/visita-cultural-la-valencia-prohibida-lupanar-dones-pecaminoses-y-a-la-iglesia-de-sta-ursula/
LOCATION:Externo\, Valencia
CATEGORIES:Visitas Culturales
ATTACH;FMTTYPE=image/jpeg:https://historico.ateneovalencia.es/wp-content/uploads/2025/05/20250529-Visita-Cultural-Lupanar-e-Iglesia-Sta-Ursula.jpg
END:VEVENT
END:VCALENDAR