BEGIN:VCALENDAR
VERSION:2.0
PRODID:-//Ateneo Mercantil de Valencia - ECPv6.0.4//NONSGML v1.0//EN
CALSCALE:GREGORIAN
METHOD:PUBLISH
X-ORIGINAL-URL:https://historico.ateneovalencia.es
X-WR-CALDESC:Eventos para Ateneo Mercantil de Valencia
REFRESH-INTERVAL;VALUE=DURATION:PT1H
X-Robots-Tag:noindex
X-PUBLISHED-TTL:PT1H
BEGIN:VTIMEZONE
TZID:Europe/Madrid
BEGIN:DAYLIGHT
TZOFFSETFROM:+0100
TZOFFSETTO:+0200
TZNAME:CEST
DTSTART:20250330T010000
END:DAYLIGHT
BEGIN:STANDARD
TZOFFSETFROM:+0200
TZOFFSETTO:+0100
TZNAME:CET
DTSTART:20251026T010000
END:STANDARD
END:VTIMEZONE
BEGIN:VEVENT
DTSTART;TZID=Europe/Madrid:20250508T103000
DTEND;TZID=Europe/Madrid:20250508T130000
DTSTAMP:20260421T204426
CREATED:20250410T114717Z
LAST-MODIFIED:20250410T115010Z
UID:83597-1746700200-1746709200@historico.ateneovalencia.es
SUMMARY:Visita Cultural: Integración ambiental de la dársena interior del Puerto de Valencia
DESCRIPTION:El Ateneo Mercantil de Valencia organiza una nueva visita cultural en la que se hará una visita técnica a la integración ambiental de la dársena interior del Puerto de Valencia. Un recorrido que comenzará a las 10.30 horas de la mañana desde el emblemático edificio del reloj (Punto de encuentro 10 minutos antes del inicio de la visita) y terminará junto al Hotel Neptuno. \nUna ruta guiada por la Fachada Marítima\, con paradas en algunos de los rincones más emblemáticos y significativos de la transformación urbanística del puerto: Jardín histórico Eugenia Viñes\, Varadero\, Los Docks\, Veles e Vents\, Jardín Marítimo\, Copa América\, Paseo Marítimo ajardinado\, Hotel Neptuno y los Jardines ondulados. \n🧑‍🏫 Contaremos con un guía especializado: Jorge Aldana\, ingeniero agrónomo\, que nos ofrecerá una perspectiva experta sobre la sostenibilidad\, el urbanismo y la historia de este entorno tan singular. \n👥 Aforo limitado a 70 personas💸 Actividad gratuita📞 Inscripciones (Abiertas a partir del 22 de abril de 2025) en Secretaría o llamando al 96.352.59.84   \n☀️ Importante: Debido a la exposición al sol durante el recorrido\, se recomienda llevar gorro\, sombrero o gorra y protección solar. \nLas siguientes líneas de transporte pasan cerca del Edificio del Reloj del Puerto: \n\nAutobús: 4\, 92\, 95\, 99\, 19.\nTren: C6.\nMetrovalencia: 5\, 7\, 6\, 8.\n\nCartel:
URL:https://historico.ateneovalencia.es/evento/visita-cultural-integracion-ambiental-de-la-darsena-interior-del-puerto-de-valencia/
LOCATION:Externo\, Valencia
CATEGORIES:Visitas Culturales
ATTACH;FMTTYPE=image/jpeg:https://historico.ateneovalencia.es/wp-content/uploads/2025/04/20250508-Visita-Cultural-Darsena-Puerto.jpg
END:VEVENT
END:VCALENDAR