BEGIN:VCALENDAR
VERSION:2.0
PRODID:-//Ateneo Mercantil de Valencia - ECPv6.0.4//NONSGML v1.0//EN
CALSCALE:GREGORIAN
METHOD:PUBLISH
X-ORIGINAL-URL:https://historico.ateneovalencia.es
X-WR-CALDESC:Eventos para Ateneo Mercantil de Valencia
REFRESH-INTERVAL;VALUE=DURATION:PT1H
X-Robots-Tag:noindex
X-PUBLISHED-TTL:PT1H
BEGIN:VTIMEZONE
TZID:Europe/Madrid
BEGIN:DAYLIGHT
TZOFFSETFROM:+0100
TZOFFSETTO:+0200
TZNAME:CEST
DTSTART:20250330T010000
END:DAYLIGHT
BEGIN:STANDARD
TZOFFSETFROM:+0200
TZOFFSETTO:+0100
TZNAME:CET
DTSTART:20251026T010000
END:STANDARD
END:VTIMEZONE
BEGIN:VEVENT
DTSTART;TZID=Europe/Madrid:20250227T110000
DTEND;TZID=Europe/Madrid:20250227T123000
DTSTAMP:20260422T181747
CREATED:20250217T104557Z
LAST-MODIFIED:20250217T104557Z
UID:83184-1740654000-1740659400@historico.ateneovalencia.es
SUMMARY:Visita Cultural a la Real Academia de Cultura Valenciana (RACV): Su Historia y Edificio
DESCRIPTION:El Ateneo Mercantil de Valencia organiza una visita cultural a la Real Academia de Cultura Valenciana (RACV) en la que se conocerá "La Historia y el Edificio". La RACV fue fundada en 1915 por la Diputación Provincial de Valencia y tiene como objetivo promover la investigación y defender los valores culturales del pueblo valenciano. \nDetalles del evento: \n\nFecha: Jueves\, 27 de febrero de 2025\nHora: 11:00 horas\nPunto de encuentro: Puerta del edificio de la RACV\, Calle Avellanas\, 26\, Valencia\nImportante: Se recomienda llegar 10 minutos antes del inicio de la visita.\n\nInformación: \n\nCoste: La visita es GRATUITA.\nInscripciones: Pueden realizarse en la Secretaría del Ateneo Mercantil o llamando al 96 352 59 84.\nGuía: José Aparicio\, Académico Numerario de la RACV\nCupo: Un Grupo limitado a 70 personas.\n\nEsta es una oportunidad única para conocer en profundidad la historia y arquitectura de la Real Academia de Cultura Valenciana\, institución dedicada a la promoción y preservación de la cultura valenciana. \n¡No pierda la oportunidad de participar en esta enriquecedora experiencia cultural! \nCartel:
URL:https://historico.ateneovalencia.es/evento/visita-cultural-a-la-real-academia-de-cultura-valenciana-racv-su-historia-y-edificio/
LOCATION:Externo\, Valencia
CATEGORIES:Visitas Culturales
ATTACH;FMTTYPE=image/jpeg:https://historico.ateneovalencia.es/wp-content/uploads/2025/02/20250227-Visita-Cultural-RACV-1.jpg
END:VEVENT
END:VCALENDAR