BEGIN:VCALENDAR
VERSION:2.0
PRODID:-//Ateneo Mercantil de Valencia - ECPv6.0.4//NONSGML v1.0//EN
CALSCALE:GREGORIAN
METHOD:PUBLISH
X-ORIGINAL-URL:https://historico.ateneovalencia.es
X-WR-CALDESC:Eventos para Ateneo Mercantil de Valencia
REFRESH-INTERVAL;VALUE=DURATION:PT1H
X-Robots-Tag:noindex
X-PUBLISHED-TTL:PT1H
BEGIN:VTIMEZONE
TZID:Europe/Madrid
BEGIN:DAYLIGHT
TZOFFSETFROM:+0100
TZOFFSETTO:+0200
TZNAME:CEST
DTSTART:20240331T010000
END:DAYLIGHT
BEGIN:STANDARD
TZOFFSETFROM:+0200
TZOFFSETTO:+0100
TZNAME:CET
DTSTART:20241027T010000
END:STANDARD
END:VTIMEZONE
BEGIN:VEVENT
DTSTART;TZID=Europe/Madrid:20241025T083000
DTEND;TZID=Europe/Madrid:20241025T143000
DTSTAMP:20260421T223252
CREATED:20241010T072308Z
LAST-MODIFIED:20241010T072308Z
UID:81773-1729845000-1729866600@historico.ateneovalencia.es
SUMMARY:Segunda Visita Cultural a 'Chelva Histórica'
DESCRIPTION:El Ateneo Mercantil de Valencia ha organizado una segunda visita a Chelva para un grupo de 50 personas y así conocer la monumentalidad de esta preciosa localidad de la comarca de Los Serranos. Una visita que tendrá lugar el viernes 25 de octubre de 2024 y en la que visitarán al centro histórico con los Barrios Musulmán\, Judío y Cristiano; luego conocerán el Palacio Vizcondal (recordarles que no hay ascensor para subir los tres pisos). Y contaremos con guías oficiales de turismo. \nRecuerden que tienen opción de ALMUERZO en el Restaurante 'El Neutral'. \nPrecio: Visita CON ALMUERZO: 20€ | SIN ALMUERZO: 16€ \nPunto de encuentro: Salida del Autobús desde Calle Poeta Querol\, 8 de Valencia. A las 8.20 horas. \nHorario de salida del Bus: 8.30 horas. \nHorario de llegada a Valencia: 14.30 horas \nLos jefes de grupo serán en esta ocasión Vicente Bosch y Paco Roger. \nLas inscripciones y la venta de los tiques serán en Secretaría del Ateneo Mercantil.\nCartel:
URL:https://historico.ateneovalencia.es/evento/segunda-visita-cultural-a-chelva-historica/
LOCATION:Externo\, Valencia
CATEGORIES:Visitas Culturales
ATTACH;FMTTYPE=image/jpeg:https://historico.ateneovalencia.es/wp-content/uploads/2024/09/20241031-Visita-a-Chelva.jpg
END:VEVENT
END:VCALENDAR