BEGIN:VCALENDAR
VERSION:2.0
PRODID:-//Ateneo Mercantil de Valencia - ECPv6.0.4//NONSGML v1.0//EN
CALSCALE:GREGORIAN
METHOD:PUBLISH
X-WR-CALNAME:Ateneo Mercantil de Valencia
X-ORIGINAL-URL:https://historico.ateneovalencia.es
X-WR-CALDESC:Eventos para Ateneo Mercantil de Valencia
REFRESH-INTERVAL;VALUE=DURATION:PT1H
X-Robots-Tag:noindex
X-PUBLISHED-TTL:PT1H
BEGIN:VTIMEZONE
TZID:Europe/Madrid
BEGIN:DAYLIGHT
TZOFFSETFROM:+0100
TZOFFSETTO:+0200
TZNAME:CEST
DTSTART:20240331T010000
END:DAYLIGHT
BEGIN:STANDARD
TZOFFSETFROM:+0200
TZOFFSETTO:+0100
TZNAME:CET
DTSTART:20241027T010000
END:STANDARD
END:VTIMEZONE
BEGIN:VEVENT
DTSTART;TZID=Europe/Madrid:20240926T110000
DTEND;TZID=Europe/Madrid:20240926T130000
DTSTAMP:20260421T224859
CREATED:20240912T084240Z
LAST-MODIFIED:20240912T084241Z
UID:81475-1727348400-1727355600@historico.ateneovalencia.es
SUMMARY:Visita Cultural al Aeropuerto de Valencia: Centro de Operaciones y Campo de Vuelo
DESCRIPTION:El Ateneo Mercantil de Valencia arranca el curso 2024-2025 con una nueva visita cultural guiada y GRATUITA al Aeropuerto de Valencia el próximo jueves 26 de septiembre a las 11 horas. Una instalación que cumple este año 91 años conectando nuestra ciudad con el mundo. \n\nPunto de encuentro: Salida de la Boca del Metro del Aeropuerto de Valencia a las 10.45 horas.\nDuración de la visita: 2 horas aproximadamente\nGuía de AENA: Óscar Soriano\nVisita: Presentación de todas las actividades que se realizan en un aeropuerto e información de AENA en el Salón de actos. También se visitará el Centro de Operaciones del Aeropuerto y el Campo de vuelo. Y por último veremos aeronaves interesantes.\nGrupo 60 Personas | Importante: En la visita no se admitirán personas que no estén inscritas.\n\nEs imprescindible para apuntarse decir el NOMBRE\, APELLIDOS y el número del DNI. \nINSCRIPCIONES: en Secretaría o llamando al teléfono 963525984\nCartel:
URL:https://historico.ateneovalencia.es/evento/visita-cultural-al-aeropuerto-de-valencia-centro-de-operaciones-y-campo-de-vuelo/
LOCATION:Aeropuerto de Valencia
CATEGORIES:Visitas Culturales
ATTACH;FMTTYPE=image/jpeg:https://historico.ateneovalencia.es/wp-content/uploads/2024/09/20240926-Visita-Aeropuerto-Valencia.jpg
END:VEVENT
END:VCALENDAR