BEGIN:VCALENDAR
VERSION:2.0
PRODID:-//Ateneo Mercantil de Valencia - ECPv6.0.4//NONSGML v1.0//EN
CALSCALE:GREGORIAN
METHOD:PUBLISH
X-ORIGINAL-URL:https://historico.ateneovalencia.es
X-WR-CALDESC:Eventos para Ateneo Mercantil de Valencia
REFRESH-INTERVAL;VALUE=DURATION:PT1H
X-Robots-Tag:noindex
X-PUBLISHED-TTL:PT1H
BEGIN:VTIMEZONE
TZID:Europe/Madrid
BEGIN:DAYLIGHT
TZOFFSETFROM:+0100
TZOFFSETTO:+0200
TZNAME:CEST
DTSTART:20230326T010000
END:DAYLIGHT
BEGIN:STANDARD
TZOFFSETFROM:+0200
TZOFFSETTO:+0100
TZNAME:CET
DTSTART:20231029T010000
END:STANDARD
END:VTIMEZONE
BEGIN:VEVENT
DTSTART;TZID=Europe/Madrid:20231116T110000
DTEND;TZID=Europe/Madrid:20231116T133000
DTSTAMP:20260423T095524
CREATED:20231103T123132Z
LAST-MODIFIED:20231103T123245Z
UID:75764-1700132400-1700141400@historico.ateneovalencia.es
SUMMARY:Visita Cultural a Lo Rat Penat: conoce su historia y su gran fondo artístico y cultural
DESCRIPTION:El Ateneo Mercantil de Valencia ha programado una visita cultural a Lo Rat Penat el próximo jueves 16 de noviembre a las 11 horas en la que se visitará a la decana de les entidades culturales valencianistas. Lo Rat Penat fue fundada en 1878 por Constantí Llombart\, Teodor Llorente y Feliu Pizcueta\, representantes de las principales tendencias ideológicas de la época. Una institución dedicada a la promoción\, defensa\, enseñanza y difusión de la lengua valenciana y la cultura valenciana. \nEl punto de encuentro será en la puerta de Lo Rat Penat en la Calle del Trinquet de Cavallers\, 9 de Valencia a las 11 horas de la mañana. La visita es totalmente gratuita y está estipulada para un grupo de 80 personas. Pueden inscribirse en Secretaría del Ateneo Mercantil o bien llamando al 96.352.59.84. \nCartel:\n 
URL:https://historico.ateneovalencia.es/evento/visita-cultural-a-lo-rat-penat-historia-y-fondo-artistico-y-cultural/
LOCATION:Externo\, Valencia
CATEGORIES:Visitas Culturales
ATTACH;FMTTYPE=image/jpeg:https://historico.ateneovalencia.es/wp-content/uploads/2023/11/20231116-Visita-a-Lo-Rat-Penat.jpg
END:VEVENT
END:VCALENDAR