BEGIN:VCALENDAR
VERSION:2.0
PRODID:-//Ateneo Mercantil de Valencia - ECPv6.0.4//NONSGML v1.0//EN
CALSCALE:GREGORIAN
METHOD:PUBLISH
X-ORIGINAL-URL:https://historico.ateneovalencia.es
X-WR-CALDESC:Eventos para Ateneo Mercantil de Valencia
REFRESH-INTERVAL;VALUE=DURATION:PT1H
X-Robots-Tag:noindex
X-PUBLISHED-TTL:PT1H
BEGIN:VTIMEZONE
TZID:Europe/Madrid
BEGIN:DAYLIGHT
TZOFFSETFROM:+0100
TZOFFSETTO:+0200
TZNAME:CEST
DTSTART:20230326T010000
END:DAYLIGHT
BEGIN:STANDARD
TZOFFSETFROM:+0200
TZOFFSETTO:+0100
TZNAME:CET
DTSTART:20231029T010000
END:STANDARD
END:VTIMEZONE
BEGIN:VEVENT
DTSTART;TZID=Europe/Madrid:20231019T093000
DTEND;TZID=Europe/Madrid:20231019T140000
DTSTAMP:20260421T204353
CREATED:20230920T082549Z
LAST-MODIFIED:20230920T082549Z
UID:75458-1697707800-1697724000@historico.ateneovalencia.es
SUMMARY:Segunda visita Cultural al Puerto de Catarroja - 'Historia y vida en la Albufera'
DESCRIPTION:El Ateneo Mercantil de Valencia ha preparado una visita cultural para los socios y sus acompañantes para conocer de cerca la el Puerto de Catarroja: ‘Historia y vida en la Albufera’. Entre árboles\, vegetación y un lago por el que se puede pasear en barca\, encontramos el Puerto de Catarroja\, que es uno de los brazos del canal de la Albufera. Un lugar maravilloso para desconectar mentalmente y también para descansar. El puerto se encuentra en el sudoeste de Catarroja\, al final de la acequia de la Rambleta y cerca del término de Albal. Un lugar de fácil acceso\, un parque abierto que visitaremos. \nAsí el martes 17 y el jueves 19 de octubre de 2023 se realizará una salida con autobús para los socios del Ateneo Mercantil. El punto de encuentro para salida del autobús será el habitual\, en la calle Poeta Querol\, 8 (próximo al Teatro Principal) y el horario será las 9.15 horas. El regreso a Valencia será a las 14 horas. \nLos guías de esta salida será Salva Raga y Vidal Valle. Visitaremos la Escuela de Capataces\, La Barraca\, el Hórreo con aperos de labranza\, los invernaderos y los canales de La Albufera. \nRecuerden que hay la posibilidad de almorzar: 1/2 Bocadillo\, Bebida y Café en Casa Baina. Los que no almuercen tendrán 40 minutos de tiempo libre. El precio de la visita cultural son 11 euros (Autobús\, seguro de viaje y almuerzo). Sin almuerzo\, el precio de la visita es de 5 euros. Las inscripciones son en Secretaría. \nCartel:\n \n 
URL:https://historico.ateneovalencia.es/evento/segunda-visita-cultural-al-puerto-de-catarroja-historia-y-vida-en-la-albufera/
LOCATION:Externo\, Valencia
CATEGORIES:Visitas Culturales
ATTACH;FMTTYPE=image/jpeg:https://historico.ateneovalencia.es/wp-content/uploads/2023/04/20230518-Visita-Cultural-Puerto-de-Catarroja.jpg
END:VEVENT
END:VCALENDAR