BEGIN:VCALENDAR
VERSION:2.0
PRODID:-//Ateneo Mercantil de Valencia - ECPv6.0.4//NONSGML v1.0//EN
CALSCALE:GREGORIAN
METHOD:PUBLISH
X-WR-CALNAME:Ateneo Mercantil de Valencia
X-ORIGINAL-URL:https://historico.ateneovalencia.es
X-WR-CALDESC:Eventos para Ateneo Mercantil de Valencia
REFRESH-INTERVAL;VALUE=DURATION:PT1H
X-Robots-Tag:noindex
X-PUBLISHED-TTL:PT1H
BEGIN:VTIMEZONE
TZID:Europe/Madrid
BEGIN:DAYLIGHT
TZOFFSETFROM:+0100
TZOFFSETTO:+0200
TZNAME:CEST
DTSTART:20230326T010000
END:DAYLIGHT
BEGIN:STANDARD
TZOFFSETFROM:+0200
TZOFFSETTO:+0100
TZNAME:CET
DTSTART:20231029T010000
END:STANDARD
END:VTIMEZONE
BEGIN:VEVENT
DTSTART;TZID=Europe/Madrid:20231005T103000
DTEND;TZID=Europe/Madrid:20231005T123000
DTSTAMP:20260421T182018
CREATED:20230915T094834Z
LAST-MODIFIED:20230915T094905Z
UID:75404-1696501800-1696509000@historico.ateneovalencia.es
SUMMARY:Visita cultural al Museo de Historia de Valencia
DESCRIPTION:El Ateneo Mercantil de Valencia ha programado una salida cultural para el próximo jueves 5 de octubre al Museo de Historia de Valencia que está en Mislata. La salida está programada para dos grupos de 35 personas cada uno y es totalmente gratuita. El primer grupo visitará el museo a las 10.30 horas mientras que el segundo grupo lo hará a las 11.30 horas. Recordad que una vez inscritos es fundamental respetar los turnos y los horarios de las visitas. \nEl punto de encuentro para la visita es en la puerta del museo\, en la calle Valencia\, 42 de Mislata y hay varias opciones para poder ir: si lo hace en autobús EMT tiene disponibles las líneas 95\, 98\, 99 y 150; mientras que si lo hace en Metro dispone de dos líneas\, la 3 y la 5. \nLa visita se realizará con un guía oficial\, con el director del museo\, D. Javier López. \nInscripciones tanto en Secretaría (presencial) como llamando al teléfono 963525984.\nCartel:
URL:https://historico.ateneovalencia.es/evento/visita-cultural-al-museo-de-historia-de-valencia/
LOCATION:Externo\, Valencia
CATEGORIES:Visitas Culturales
ATTACH;FMTTYPE=image/jpeg:https://historico.ateneovalencia.es/wp-content/uploads/2023/09/20231005-Visita-Museo-Historia-Valencia.jpg
END:VEVENT
END:VCALENDAR