BEGIN:VCALENDAR
VERSION:2.0
PRODID:-//Ateneo Mercantil de Valencia - ECPv6.0.4//NONSGML v1.0//EN
CALSCALE:GREGORIAN
METHOD:PUBLISH
X-WR-CALNAME:Ateneo Mercantil de Valencia
X-ORIGINAL-URL:https://historico.ateneovalencia.es
X-WR-CALDESC:Eventos para Ateneo Mercantil de Valencia
REFRESH-INTERVAL;VALUE=DURATION:PT1H
X-Robots-Tag:noindex
X-PUBLISHED-TTL:PT1H
BEGIN:VTIMEZONE
TZID:Europe/Madrid
BEGIN:DAYLIGHT
TZOFFSETFROM:+0100
TZOFFSETTO:+0200
TZNAME:CEST
DTSTART:20230326T010000
END:DAYLIGHT
BEGIN:STANDARD
TZOFFSETFROM:+0200
TZOFFSETTO:+0100
TZNAME:CET
DTSTART:20231029T010000
END:STANDARD
END:VTIMEZONE
BEGIN:VEVENT
DTSTART;TZID=Europe/Madrid:20230413T110000
DTEND;TZID=Europe/Madrid:20230413T130000
DTSTAMP:20260421T182945
CREATED:20230328T114047Z
LAST-MODIFIED:20230328T114050Z
UID:73566-1681383600-1681390800@historico.ateneovalencia.es
SUMMARY:Visita Cultural al Palacio de Congresos de Valencia
DESCRIPTION:El Ateneo Mercantil de Valencia ha organizado una visita cultural gratuita para sus socios y acompañantes el próximo jueves 13 de abril de 2023 al Palacio de Congresos de Valencia. Una visita programada para 80-90 personas y la hora de inicio prevista es a las 11 horas. Contaremos con guías oficiales que nos mostrarán todas las instalaciones del mejor Palacio de Congresos de nuestro país. \nSi deseas apuntarte\, recuerda que las inscripciones se realizarán en Secretaría del Ateneo Mercantil o llamando al teléfono 963525984. El punto de encuentro para realizar la visita será en la puerta del Palacio de Congresos (Avenida de Las Cortes Valencianas\, 60) unos minutos antes de que arranque la visita a las 11 horas. \nCartel:
URL:https://historico.ateneovalencia.es/evento/visita-cultural-al-palacio-de-congresos-de-valencia/
LOCATION:Externo\, Valencia
CATEGORIES:Visitas Culturales
ATTACH;FMTTYPE=image/jpeg:https://historico.ateneovalencia.es/wp-content/uploads/2023/03/20230413-Visita-Cultural-Palacio-de-Congresos.jpg
END:VEVENT
END:VCALENDAR