BEGIN:VCALENDAR
VERSION:2.0
PRODID:-//Ateneo Mercantil de Valencia - ECPv6.0.4//NONSGML v1.0//EN
CALSCALE:GREGORIAN
METHOD:PUBLISH
X-WR-CALNAME:Ateneo Mercantil de Valencia
X-ORIGINAL-URL:https://historico.ateneovalencia.es
X-WR-CALDESC:Eventos para Ateneo Mercantil de Valencia
REFRESH-INTERVAL;VALUE=DURATION:PT1H
X-Robots-Tag:noindex
X-PUBLISHED-TTL:PT1H
BEGIN:VTIMEZONE
TZID:Europe/Madrid
BEGIN:DAYLIGHT
TZOFFSETFROM:+0100
TZOFFSETTO:+0200
TZNAME:CEST
DTSTART:20230326T010000
END:DAYLIGHT
BEGIN:STANDARD
TZOFFSETFROM:+0200
TZOFFSETTO:+0100
TZNAME:CET
DTSTART:20231029T010000
END:STANDARD
END:VTIMEZONE
BEGIN:VEVENT
DTSTART;TZID=Europe/Madrid:20230112T093000
DTEND;TZID=Europe/Madrid:20230112T143000
DTSTAMP:20260421T230310
CREATED:20221205T091517Z
LAST-MODIFIED:20221205T091518Z
UID:72296-1673515800-1673533800@historico.ateneovalencia.es
SUMMARY:Visita Cultural a la Universidad Laboral - Centro Educativo de Cheste
DESCRIPTION:El Ateneo Mercantil de Valencia ha abierto el plazo para inscribirse a los dos visitas culturales del mes de enero de 2023. La primera de ellas llevará el próximo jueves 12 de enero a Cheste para copnocer de cerca la Universidad Laboral - Centro Educativo de Cheste. La visita tiene un precio de seis euros para abonar el autobús y el seguro de viaje. \nEl punto de encuentro para la salida será la calle Poeta Querol\, 8 de Valencia (junto al Teatro Principal de Valencia) a las 9.30 horas. El regreso a Valencia será a las 12.30 horas. Si se llenase el primer autobús\, se pondrá en marcha un segundo. En este caso la salida desde el punto de encuentro será a las 11.30 horas y el regreso a Valencia será a las 14.30 horas. \nEn la Universidad Laboral se verán la Capilla\, Salón de Grado\, Comedor\, Exteriores... Los jefes de grupo serán Vicente Bosch y Francisco Soriano. Inscripciones en Secretaría. La visita será guiada por trabajadores del Centro Educativo de Cheste. \nCartel:
URL:https://historico.ateneovalencia.es/evento/visita-cultural-a-la-universidad-laboral-centro-educativo-de-cheste/
LOCATION:Externo\, Valencia
CATEGORIES:Visitas Culturales
ATTACH;FMTTYPE=image/jpeg:https://historico.ateneovalencia.es/wp-content/uploads/2022/12/20230112-Visita-Cultural-Centro-Educativo-Cheste.jpg
END:VEVENT
END:VCALENDAR