BEGIN:VCALENDAR
VERSION:2.0
PRODID:-//Ateneo Mercantil de Valencia - ECPv6.0.4//NONSGML v1.0//EN
CALSCALE:GREGORIAN
METHOD:PUBLISH
X-ORIGINAL-URL:https://historico.ateneovalencia.es
X-WR-CALDESC:Eventos para Ateneo Mercantil de Valencia
REFRESH-INTERVAL;VALUE=DURATION:PT1H
X-Robots-Tag:noindex
X-PUBLISHED-TTL:PT1H
BEGIN:VTIMEZONE
TZID:Europe/Madrid
BEGIN:DAYLIGHT
TZOFFSETFROM:+0100
TZOFFSETTO:+0200
TZNAME:CEST
DTSTART:20220327T010000
END:DAYLIGHT
BEGIN:STANDARD
TZOFFSETFROM:+0200
TZOFFSETTO:+0100
TZNAME:CET
DTSTART:20221030T010000
END:STANDARD
END:VTIMEZONE
BEGIN:VEVENT
DTSTART;TZID=Europe/Madrid:20221215T110000
DTEND;TZID=Europe/Madrid:20221215T130000
DTSTAMP:20260421T212452
CREATED:20221117T122943Z
LAST-MODIFIED:20221117T122944Z
UID:71924-1671102000-1671109200@historico.ateneovalencia.es
SUMMARY:Visita Cultural al Palacio de la Exposición\, Asilo de Lactancia y antiguo edificio de Tabacalera
DESCRIPTION:El Ateneo Mercantil de Valencia ha programado dos visitas culturales para el mes de diciembre para sus socios y socias y la segunda de ellas será a los edificios que quedan en pie de la Exposición Regional de 1909. Así el próximo jueves 15 de diciembre a las 11 de la mañana se visitará el Palacio de la Exposición y el entorno del Asilo de Lactancia y el antiguo edificio de Tabacalera. \nEl punto de encuentro será la puerta del Palacio de la Exposición (Plaza de Galicia\, 3 de Valencia) y para llegar hasta él pueden utilizar el metro (Estación Alameda) y en Autobús el número 32. La visita será guiada y está programada para el próximo jueves 15 de diciembre de 2022. Es totalmente Gratuita. Se ha programado para un grupo de 90 personas. \nInscripciones tanto en Secretaría como llamando al 96.352.59.84. \nCartel:
URL:https://historico.ateneovalencia.es/evento/visita-cultural-al-palacio-de-la-exposicion-asilo-de-lactancia-y-antiguo-edificio-de-tabacalera/
LOCATION:Externo\, Valencia
CATEGORIES:Visitas Culturales
ATTACH;FMTTYPE=image/jpeg:https://historico.ateneovalencia.es/wp-content/uploads/2022/11/20221215-Visita-Cultural-Palacio-Exposicion.jpg
END:VEVENT
END:VCALENDAR