BEGIN:VCALENDAR
VERSION:2.0
PRODID:-//Ateneo Mercantil de Valencia - ECPv6.0.4//NONSGML v1.0//EN
CALSCALE:GREGORIAN
METHOD:PUBLISH
X-WR-CALNAME:Ateneo Mercantil de Valencia
X-ORIGINAL-URL:https://historico.ateneovalencia.es
X-WR-CALDESC:Eventos para Ateneo Mercantil de Valencia
REFRESH-INTERVAL;VALUE=DURATION:PT1H
X-Robots-Tag:noindex
X-PUBLISHED-TTL:PT1H
BEGIN:VTIMEZONE
TZID:Europe/Madrid
BEGIN:DAYLIGHT
TZOFFSETFROM:+0100
TZOFFSETTO:+0200
TZNAME:CEST
DTSTART:20220327T010000
END:DAYLIGHT
BEGIN:STANDARD
TZOFFSETFROM:+0200
TZOFFSETTO:+0100
TZNAME:CET
DTSTART:20221030T010000
END:STANDARD
END:VTIMEZONE
BEGIN:VEVENT
DTSTART;TZID=Europe/Madrid:20221201T110000
DTEND;TZID=Europe/Madrid:20221202T130000
DTSTAMP:20260421T162956
CREATED:20221117T121451Z
LAST-MODIFIED:20221117T122124Z
UID:71920-1669892400-1669986000@historico.ateneovalencia.es
SUMMARY:Visita Cultural a Caixaforum y a la Exposición 'Faraón - Rey de Egipto'
DESCRIPTION:El Ateneo Mercantil de Valencia ha programado dos visitas culturales para el mes de diciembre para sus socios y socias y la primera de ellas será al Ágora de la Ciudad de las Ciencias de Valencia para ver hacer una visita guiada de 45 minutos con guías oficiales para conocer el edificio y otra visita de 45 minutos para ver la Exposición 'Faraón. Rey de Egipto'. \nLa visita está programada para dos días\, para el 1 y 2 de Diciembre. El precio es de 2 euros. \nLa visita comenzará a las 11.15 horas y el punto de encuentro será la puerta principal del Ágora. Recuerden que para llegar hasta la Ciudad de las Ciencias pueden ir en Autobús (Parada Av. Profesor López Piñero – Centro Comercial El Saler). La visita está programa para dos grupos: 50 personas cada día. \nInscripciones sólo presencial en Secretaría\nCartel:\n \n 
URL:https://historico.ateneovalencia.es/evento/visita-cultural-a-caixaforum-y-a-la-exposicion-faraon-rey-de-egipto/
LOCATION:Externo\, Valencia
CATEGORIES:Visitas Culturales
ATTACH;FMTTYPE=image/jpeg:https://historico.ateneovalencia.es/wp-content/uploads/2022/11/20221201-Visita-Cultural-Agora-Faraon.jpg
END:VEVENT
END:VCALENDAR