BEGIN:VCALENDAR
VERSION:2.0
PRODID:-//Ateneo Mercantil de Valencia - ECPv6.0.4//NONSGML v1.0//EN
CALSCALE:GREGORIAN
METHOD:PUBLISH
X-ORIGINAL-URL:https://historico.ateneovalencia.es
X-WR-CALDESC:Eventos para Ateneo Mercantil de Valencia
REFRESH-INTERVAL;VALUE=DURATION:PT1H
X-Robots-Tag:noindex
X-PUBLISHED-TTL:PT1H
BEGIN:VTIMEZONE
TZID:Europe/Madrid
BEGIN:DAYLIGHT
TZOFFSETFROM:+0100
TZOFFSETTO:+0200
TZNAME:CEST
DTSTART:20220327T010000
END:DAYLIGHT
BEGIN:STANDARD
TZOFFSETFROM:+0200
TZOFFSETTO:+0100
TZNAME:CET
DTSTART:20221030T010000
END:STANDARD
END:VTIMEZONE
BEGIN:VEVENT
DTSTART;TZID=Europe/Madrid:20221011T100000
DTEND;TZID=Europe/Madrid:20221011T130000
DTSTAMP:20260422T013541
CREATED:20221005T112331Z
LAST-MODIFIED:20221005T112332Z
UID:71330-1665482400-1665493200@historico.ateneovalencia.es
SUMMARY:Visita Cultural al Palacio Marqués de Dos Aguas - Exposición Temporal 'Travesía Infinita' (V Centenario 1ª Vuelta al Mundo)
DESCRIPTION:El Ateneo Mercantil ha organizado una visita cultural al Palacio del Marqués de Dos Aguas de Valencia el próximo martes 11 de octubre para poder visitar la exposición temporal 'Travesía Infinita" que conmemora el V Centenario de la 1ª Vuelta al Mundo de Magallanes y ElCano. La visita está organizada para tres grupos de 25 personas cada uno. El horario de las visitas es: primer grupo a las 10 horas\, el segundo a las 11 horas y el tercero a las 12 horas. El punto de encuentro será en la Puerta del Museo (calle Poeta Querol de Valencia). \nLa visita es totalmente gratuita y será guiada con un guía oficial del Museo: Óscar Carnicer\, director creativo del Museo. \nPara inscribirse puedes hacerlo de dos maneras: de manera presencial en Secretaría (5ª planta del Ateneo Mercantil) o bien llamando al teléfono 96.352.59.84.\nEl Museo Nacional de Cerámica y Artes Suntuarias ‘González Martí’ acoge esta exposición desde el pasado 9 de septiembre hasta el 12 de febrero de 2023. En el marco del V Centenario de la Primera Vuelta al Mundo\, la muestra exhibe la obra monumental ‘Travesía cerámica’\, creada por AlcoRa La Ilustre Cerámica\, así como otras obras procedentes de este taller de recuperación de la tradición cerámica de Alcora (Castellón). Con Marta Ruiz Jiménez como comisaria\, está coorganizada por el Museo Nacional de Cerámica y AlcoRa La Ilustre Cerámica. \nCartel:
URL:https://historico.ateneovalencia.es/evento/visita-cultural-al-palacio-marques-de-dos-aguas-exposicion-temporal-travesia-infinita-v-centenario-1a-vuelta-al-mundo/
LOCATION:Externo\, Valencia
CATEGORIES:Visitas Culturales
ATTACH;FMTTYPE=image/jpeg:https://historico.ateneovalencia.es/wp-content/uploads/2022/10/20221011-Visita-Exposicion-Vuelta-al-Mundo.jpg
END:VEVENT
END:VCALENDAR