BEGIN:VCALENDAR
VERSION:2.0
PRODID:-//Ateneo Mercantil de Valencia - ECPv6.0.4//NONSGML v1.0//EN
CALSCALE:GREGORIAN
METHOD:PUBLISH
X-ORIGINAL-URL:https://historico.ateneovalencia.es
X-WR-CALDESC:Eventos para Ateneo Mercantil de Valencia
REFRESH-INTERVAL;VALUE=DURATION:PT1H
X-Robots-Tag:noindex
X-PUBLISHED-TTL:PT1H
BEGIN:VTIMEZONE
TZID:Europe/Madrid
BEGIN:DAYLIGHT
TZOFFSETFROM:+0100
TZOFFSETTO:+0200
TZNAME:CEST
DTSTART:20220327T010000
END:DAYLIGHT
BEGIN:STANDARD
TZOFFSETFROM:+0200
TZOFFSETTO:+0100
TZNAME:CET
DTSTART:20221030T010000
END:STANDARD
END:VTIMEZONE
BEGIN:VEVENT
DTSTART;TZID=Europe/Madrid:20220623T190000
DTEND;TZID=Europe/Madrid:20220623T203000
DTSTAMP:20260422T075558
CREATED:20220611T115105Z
LAST-MODIFIED:20220611T115107Z
UID:70408-1656010800-1656016200@historico.ateneovalencia.es
SUMMARY:Visita Cultural al MUVIM: Exposición Permanente 'La aventura del Pensamiento'
DESCRIPTION:El Ateneo Mercantil ha organizado una visita cultural al MUVIM de Valencia el próximo jueves 23 de junio para poder visitar la exposición permanente 'La aventura del Pensamient0" que está organizada para dos grupos de 20 personas cada uno. El horario de las visitas es para el primer grupo de 10.10 a 11 horas de la mañana y el segundo de 11.50 a 12.40 horas. El punto de encuentro será en la Puerta del Museo Valenciano de la Ilustración y la Modernidad (calle Quevedo\, 10 de Valencia). \nLa visita es totalmente gratuita y será guiada con guías oficiales del Museo. \nPara inscribirse puedes hacerlo de dos maneras: de manera presencial en Secretaría (5ª planta del Ateneo Mercantil) o bien llamando al teléfono 96.352.59.84.\nA través de un recorrido cronológico lleno de sorpresas que atraviesa un espacio expositivo de más de 2.000 metros\, nos acercaremos lúdicamente a las claves de la historia del pensamiento occidental. El visitante se sumergirá en escenarios que recrean los hitos culturales de cada época: desde la Edad Media a la actualidad\, pasando por la Ilustración del siglo XVIII o el nacimiento de la ciencia moderna. \nLa exposición muestra por medio de 15 salas el recorrido histórico de las ideas que van desde el teocentrismo de la Edad Media\, pasando por el ideal de la razón de la Ilustración\, hasta concluir en el desarrollo de la ciencia actual. \nCartel:
URL:https://historico.ateneovalencia.es/evento/visita-cultural-al-muvim-exposicion-permanente-la-aventura-del-pensamiento/
LOCATION:Externo\, Valencia
CATEGORIES:Visitas Culturales
ATTACH;FMTTYPE=image/jpeg:https://historico.ateneovalencia.es/wp-content/uploads/2022/06/20220623-Visita-Cultural-MUVIM.jpg
END:VEVENT
END:VCALENDAR