BEGIN:VCALENDAR
VERSION:2.0
PRODID:-//Ateneo Mercantil de Valencia - ECPv6.0.4//NONSGML v1.0//EN
CALSCALE:GREGORIAN
METHOD:PUBLISH
X-ORIGINAL-URL:https://historico.ateneovalencia.es
X-WR-CALDESC:Eventos para Ateneo Mercantil de Valencia
REFRESH-INTERVAL;VALUE=DURATION:PT1H
X-Robots-Tag:noindex
X-PUBLISHED-TTL:PT1H
BEGIN:VTIMEZONE
TZID:Europe/Madrid
BEGIN:DAYLIGHT
TZOFFSETFROM:+0100
TZOFFSETTO:+0200
TZNAME:CEST
DTSTART:20220327T010000
END:DAYLIGHT
BEGIN:STANDARD
TZOFFSETFROM:+0200
TZOFFSETTO:+0100
TZNAME:CET
DTSTART:20221030T010000
END:STANDARD
END:VTIMEZONE
BEGIN:VEVENT
DTSTART;TZID=Europe/Madrid:20220609T093000
DTEND;TZID=Europe/Madrid:20220609T123000
DTSTAMP:20260421T205337
CREATED:20220525T111410Z
LAST-MODIFIED:20220525T111413Z
UID:70288-1654767000-1654777800@historico.ateneovalencia.es
SUMMARY:Visita Cultural al Real Convento de Santo Domingo de Valencia
DESCRIPTION:El Ateneo Mercantil de Valencia ha preparado una visita cultural muy especial para el mes de junio que les llevará hasta el Antiguo Convento de Predicadores. Así el próximo 9 de junio\, dos grupos de 45 ateneístas cada uno podrán visitar el Real Convento de Santo Domingo de Valencia. El primer grupo comenzará la visita a las 9.30 horas\, mientras que el segundo lo hará a las 11 horas. \nLa visita es con guía oficial y el encargado de hacerla será D. Álvaro Comes\, historiador y profesor. La visita es totalmente gratuita y el punto de encuentro será en la puerta del convento\, la Plaza Tetuán\, 22. \nInscripciones: Nombre y apellidos y número de DNI. Tanto en Secretaría del Ateneo (quinta planta) como llamando al teléfono 96.352.59.84\nCartel:
URL:https://historico.ateneovalencia.es/evento/visita-cultural-al-real-convento-de-santo-domingo-de-valencia/
LOCATION:Externo\, Valencia
CATEGORIES:Visitas Culturales
ATTACH;FMTTYPE=image/jpeg:https://historico.ateneovalencia.es/wp-content/uploads/2022/05/20220609-Visita-Cltural-Convento-Sto-Domingo.jpg
END:VEVENT
END:VCALENDAR