BEGIN:VCALENDAR
VERSION:2.0
PRODID:-//Ateneo Mercantil de Valencia - ECPv6.0.4//NONSGML v1.0//EN
CALSCALE:GREGORIAN
METHOD:PUBLISH
X-ORIGINAL-URL:https://historico.ateneovalencia.es
X-WR-CALDESC:Eventos para Ateneo Mercantil de Valencia
REFRESH-INTERVAL;VALUE=DURATION:PT1H
X-Robots-Tag:noindex
X-PUBLISHED-TTL:PT1H
BEGIN:VTIMEZONE
TZID:Europe/Madrid
BEGIN:DAYLIGHT
TZOFFSETFROM:+0100
TZOFFSETTO:+0200
TZNAME:CEST
DTSTART:20220327T010000
END:DAYLIGHT
BEGIN:STANDARD
TZOFFSETFROM:+0200
TZOFFSETTO:+0100
TZNAME:CET
DTSTART:20221030T010000
END:STANDARD
END:VTIMEZONE
BEGIN:VEVENT
DTSTART;TZID=Europe/Madrid:20220505T100000
DTEND;TZID=Europe/Madrid:20220506T113000
DTSTAMP:20260422T151113
CREATED:20220426T034116Z
LAST-MODIFIED:20220426T034117Z
UID:69727-1651744800-1651836600@historico.ateneovalencia.es
SUMMARY:Visita a Quart de Poblet: Ermita de Sant Onofre y ruta hasta El Assut del Repartiment
DESCRIPTION:El Ateneo Mercantil de Valencia ha programado una visita cultural doble para arrancar este mes de mayo a Quart de Poblet. La visita se dividirá en dos días\, jueves 5 y viernes 6 de mayo y cada día un grupo de 30 personas podrán disfrutar de esta población valenciana. Contaremos con Raquel\, guía oficial de la oficina de Turismo. La hora de inicio de cada una de las dos visitas es las 10 horas\, mientras que la duración de las mismas es de 1 h y 30 min. \nPara poder llegar hasta Quart de Poblet pueden hacerlo en metro y bajar en la parada 'Quart de poblet'. Puede ser obligatoria la mascarilla en alguna de las instalaciones de la visita. La visita es GRATUITA \nInscripciones en Secretaría o llamando al 96.352.59.84\nCartel:
URL:https://historico.ateneovalencia.es/evento/visita-a-quart-de-poblet-ermita-de-sant-onofre-y-ruta-hasta-el-assut-del-repartiment/
LOCATION:Externo\, Valencia
CATEGORIES:Visitas Culturales
ATTACH;FMTTYPE=image/jpeg:https://historico.ateneovalencia.es/wp-content/uploads/2022/04/20220505-Visita-a-Quart-de-Poblet.jpg
END:VEVENT
END:VCALENDAR