BEGIN:VCALENDAR
VERSION:2.0
PRODID:-//Ateneo Mercantil de Valencia - ECPv6.0.4//NONSGML v1.0//EN
CALSCALE:GREGORIAN
METHOD:PUBLISH
X-ORIGINAL-URL:https://historico.ateneovalencia.es
X-WR-CALDESC:Eventos para Ateneo Mercantil de Valencia
REFRESH-INTERVAL;VALUE=DURATION:PT1H
X-Robots-Tag:noindex
X-PUBLISHED-TTL:PT1H
BEGIN:VTIMEZONE
TZID:Europe/Madrid
BEGIN:DAYLIGHT
TZOFFSETFROM:+0100
TZOFFSETTO:+0200
TZNAME:CEST
DTSTART:20250330T010000
END:DAYLIGHT
BEGIN:STANDARD
TZOFFSETFROM:+0200
TZOFFSETTO:+0100
TZNAME:CET
DTSTART:20251026T010000
END:STANDARD
END:VTIMEZONE
BEGIN:VEVENT
DTSTART;TZID=Europe/Madrid:20250401T100000
DTEND;TZID=Europe/Madrid:20250401T120000
DTSTAMP:20260423T205753
CREATED:20250322T171504Z
LAST-MODIFIED:20250322T171545Z
UID:83343-1743501600-1743508800@historico.ateneovalencia.es
SUMMARY:Visita Cultural a la Exposición "75 ANYS" del SIAM en Valencia - Gratuita
DESCRIPTION:El Ateneo tiene el placer de invitarle a una visita cultural a la Exposición "75 anys" del SIAM en Valencia\, una muestra que reúne las 75 piezas más importantes de la historia de la ciudad. Esta exposición se encuentra en la Sala de Exposiciones del Ayuntamiento de Valencia y representa una oportunidad única para conocer y valorar nuestro patrimonio histórico. \nDetalles de la visita:\n📅 Fecha: Martes 1 de abril de 2025\n🕙 Turnos de visita: \n\nPrimer grupo: 10:00 h\nSegundo grupo: 11:00 h\n(Se ruega estar 10 minutos antes de cada visita)\n\n👥 Aforo limitado: 25 personas por grupo\n📍 Punto de encuentro: Puerta trasera del Ayuntamiento (C/ Arzobispo Mayoral\, 1 - Valencia)\n💰 Precio: GRATUITO\n📞 Inscripciones: Secretaría del Ateneo o llamando al 96.352.59.84\n🎤 Guías de la Empresa Didac\n🎓 Con la participación técnica de Vicent Escrivá (Director del Museo de L’Almoina) \nNo pierda la oportunidad de descubrir las piezas más emblemáticas de la historia valenciana de la mano de expertos. ¡Le esperamos! \nCartel:
URL:https://historico.ateneovalencia.es/evento/visita-cultural-a-la-exposicion-75-anys-del-siam-en-valencia-gratuita/
LOCATION:Externo\, Valencia
CATEGORIES:Visitas Culturales
ATTACH;FMTTYPE=image/jpeg:https://historico.ateneovalencia.es/wp-content/uploads/2025/03/20250401-Visita-Cultural-Ayuntamiento-Expo-75-Piezas.jpg
END:VEVENT
BEGIN:VEVENT
DTSTART;TZID=Europe/Madrid:20250424T080000
DTEND;TZID=Europe/Madrid:20250424T144500
DTSTAMP:20260423T205753
CREATED:20250327T130711Z
LAST-MODIFIED:20250327T130711Z
UID:83427-1745481600-1745505900@historico.ateneovalencia.es
SUMMARY:Visita Cultural a Albaida: Casa Museo Segrelles y Museo de Títeres con opción de Almuerzo
DESCRIPTION:El Ateneo Mercantil de Valencia organiza una visita cultural a Albaida el próximo Jueves\, 24 de abril de 2025 donde descubriremos su riqueza histórica y artística de la mano de expertos y guías locales en la visita a los dos museos de la población. \n🏛️ Lugares a visitar: \n\nCasa Museo Segrelles\nMuseo de Títeres\nSe dará un paseo por la población\n\n🔍 Además\, nos acompañan en el viaje dos especialistas que también nos darán indicaciones históricas: \n\nBernardo Montagud\nRafael Solaz\n\n🍽️ La visita cultural tiene dos opciones de viaje: \n\nCon almuerzo (24€): Bocadillo a elegir (sobrasada\, lomo y queso o tortilla de patata con jamón)\, cacaos y aceitunas\, una bebida y café.\nSin almuerzo (16€).\n\n🛍️ El precio incluye en las dos opciones: \n\nAutobús\nSeguro\nEntradas a los museos\n\n📅 Inscripciones y pago: \n\nEn Secretaría del Ateneo (5º piso) a partir del lunes 7 de abril de 2025\n\n📍 Punto de encuentro: \n\nCalle Poeta Querol\, 6 (Valencia) a  las 7:50 horas de la mañana\n\n⏳ Horarios: \n\nSalida del bus: 8:00 h\nRegreso a Valencia: 14:45 h\n\n👥 Grupo limitado a 50 personas. \n¡No te quedes sin plaza y acompáñanos en esta fascinante visita a Albaida! \nCartel:
URL:https://historico.ateneovalencia.es/evento/visita-cultural-a-albaida-casa-museo-segrelles-y-museo-de-titeres-con-opcion-de-almuerzo/
LOCATION:Externo\, Valencia
CATEGORIES:Visitas Culturales
ATTACH;FMTTYPE=image/jpeg:https://historico.ateneovalencia.es/wp-content/uploads/2025/03/20250424-Visita-Cultural-a-Albaida.jpg
END:VEVENT
END:VCALENDAR