BEGIN:VCALENDAR
VERSION:2.0
PRODID:-//Ateneo Mercantil de Valencia - ECPv6.0.4//NONSGML v1.0//EN
CALSCALE:GREGORIAN
METHOD:PUBLISH
X-WR-CALNAME:Ateneo Mercantil de Valencia
X-ORIGINAL-URL:https://historico.ateneovalencia.es
X-WR-CALDESC:Eventos para Ateneo Mercantil de Valencia
REFRESH-INTERVAL;VALUE=DURATION:PT1H
X-Robots-Tag:noindex
X-PUBLISHED-TTL:PT1H
BEGIN:VTIMEZONE
TZID:Europe/Madrid
BEGIN:DAYLIGHT
TZOFFSETFROM:+0100
TZOFFSETTO:+0200
TZNAME:CEST
DTSTART:20240331T010000
END:DAYLIGHT
BEGIN:STANDARD
TZOFFSETFROM:+0200
TZOFFSETTO:+0100
TZNAME:CET
DTSTART:20241027T010000
END:STANDARD
END:VTIMEZONE
BEGIN:VEVENT
DTSTART;TZID=Europe/Madrid:20240613T083000
DTEND;TZID=Europe/Madrid:20240613T143000
DTSTAMP:20260423T195403
CREATED:20240602T185214Z
LAST-MODIFIED:20240604T095147Z
UID:78200-1718267400-1718289000@historico.ateneovalencia.es
SUMMARY:Visita Cultural a Buñol: Castillo\, Museo de la Tomatina y Parque de San Luis
DESCRIPTION:El Ateneo Mercantil de Valencia ha programado una visita cultural a Buñol el próximo jueves 13 de junio de 2024. Un viaje a Buñol para visitar con guías de la oficina de turismo del ayuntamiento de la población al Museo de la Tomatina y el Castillo del s. XIII. Mientras que se verá el Parque de San Luis\, poco antes del regreso a Valencia. \nAdemás\, se podrá almorzar en la Posada Venta del Pilar\, si así lo desean nuestros socios y acompañantes. El Precio Sin Almuerzo es de 9 euros (autobús y seguro)\, mientras que con Almuerzo será de 15€. \nInscripciones y tiques en Secretaría del Ateneo Mercantil (5ª planta)\nEl viaje está estipulado para 50 personas. El punto de encuentro y la salida será desde la Calle Poeta Querol\, 8 de Valencia. Y la hora de salida serán las 8.30 horas de la mañana. Se espera el regreso a Valencia no antes de las 14.30 horas. \nCartel:
URL:https://historico.ateneovalencia.es/evento/visita-cultural-a-bunol-castillo-museo-de-la-tomatina-y-parque-de-san-luis/
LOCATION:Externo\, Valencia
CATEGORIES:Visitas Culturales
ATTACH;FMTTYPE=image/jpeg:https://historico.ateneovalencia.es/wp-content/uploads/2024/06/20220426-Viaje-a-Bunol.jpg
END:VEVENT
BEGIN:VEVENT
DTSTART;TZID=Europe/Madrid:20240627T120000
DTEND;TZID=Europe/Madrid:20240627T133000
DTSTAMP:20260423T195403
CREATED:20240416T180756Z
LAST-MODIFIED:20240605T102022Z
UID:77682-1719489600-1719495000@historico.ateneovalencia.es
SUMMARY:Visita cultural al Convento de Nuestra Señora del Socorro (El Socós): Capilla y Biblioteca
DESCRIPTION:El Ateneo Mercantil de Valencia ha programado una salida cultural para el próximo jueves 27 de junio en la que se visitará el Convento de Nuestra Señora del Socorro (El Socós)\, que en la actualidad es el Colegio Jesús y María. Todavía se pueden visitar de lo que fue el Convento dos dependencias\, la Capilla y la Biblioteca. \nInscripciones\nSi quieres ser uno de estos 80 socios que podrán visitar de manera gratuita la capilla y biblioteca del Antiguo Convento del Socós\, puedes apuntarte en Secretaría o bien llamando al 96.352.59.84. \nGrupos y horario\nPara el esta visita se ha programado un grupo de 80 personas\, que comenzará la actividad a las 12 horas. \nPunto de Encuentro\nEl punto de encuentro será la puerta principal del Colegio Jesús y María en la Gran Vía Fernando El Católico\, 37 de Valencia\, unos 10 minutos antes de la visita. \nLa duración aproximada de la visita será de una hora aproximada. \nCartel:
URL:https://historico.ateneovalencia.es/evento/visita-cultural-al-convento-de-nuestra-senora-del-socorro-el-socos-capilla-y-biblioteca/
LOCATION:Convent de la Nª Sra. del Socós
CATEGORIES:Visitas Culturales
ATTACH;FMTTYPE=image/jpeg:https://historico.ateneovalencia.es/wp-content/uploads/2024/04/20240620-Visita-Convent-El-Socos.jpg
END:VEVENT
END:VCALENDAR