BEGIN:VCALENDAR
VERSION:2.0
PRODID:-//Ateneo Mercantil de Valencia - ECPv6.0.4//NONSGML v1.0//EN
CALSCALE:GREGORIAN
METHOD:PUBLISH
X-ORIGINAL-URL:https://historico.ateneovalencia.es
X-WR-CALDESC:Eventos para Ateneo Mercantil de Valencia
REFRESH-INTERVAL;VALUE=DURATION:PT1H
X-Robots-Tag:noindex
X-PUBLISHED-TTL:PT1H
BEGIN:VTIMEZONE
TZID:Europe/Madrid
BEGIN:DAYLIGHT
TZOFFSETFROM:+0100
TZOFFSETTO:+0200
TZNAME:CEST
DTSTART:20240331T010000
END:DAYLIGHT
BEGIN:STANDARD
TZOFFSETFROM:+0200
TZOFFSETTO:+0100
TZNAME:CET
DTSTART:20241027T010000
END:STANDARD
END:VTIMEZONE
BEGIN:VEVENT
DTSTART;TZID=Europe/Madrid:20240404T110000
DTEND;TZID=Europe/Madrid:20240404T123000
DTSTAMP:20260421T135651
CREATED:20240324T191543Z
LAST-MODIFIED:20240324T191543Z
UID:77003-1712228400-1712233800@historico.ateneovalencia.es
SUMMARY:Visita cultural a los Museos de la Semana Santa Marinera y del Arroz
DESCRIPTION:El Ateneo Mercantil de Valencia ha programado una nueva visita cultural a los Museos de la Semana Santa Marinera y del Arroz el próximo jueves 4 de abril de 2024 en la que se visitará el Museo de la Semana Santa Marinera "Salvador Caurín" de València en el que destaca la vistosidad de sus trajes\, la riqueza simbólica y la singularidad de sus celebraciones en los barrios marítimos del Cabanyal\, Canyamelar y el Grau. Además\, se completará la visita con el Museo del Arroz en el que podremos comprobar el procesamiento industrial del arroz\, que abarca un recorrido desde que llega del campo hasta que se almacena en sacos para su consumo. \nUna visita estipulada para un grupo de 80 personas\, de una hora y media de duración aproximadamente y en la que contaremos con guías especializado de los museos. El grupo comenzará la visita a las 11 horas. IMPORTANTE: SE ABONARÁ UN EURO A LA ENTRADA DEL MUSEO. \nRecordad que hay que estar 10 minutos antes de la visita en el punto de encuentro: Calle Rosario\, 3 de Valencia. \nINSCRIPCIONES en Secretaría o llamando al 96.352.59.84 a partir del MIÉRCOLES 27 DE MARZO.\nCartel:
URL:https://historico.ateneovalencia.es/evento/visita-cultural-a-los-museos-de-la-semana-santa-marinera-y-del-arroz-de-valencia/
LOCATION:Externo\, Valencia
CATEGORIES:Visitas Culturales
ATTACH;FMTTYPE=image/jpeg:https://historico.ateneovalencia.es/wp-content/uploads/2024/03/20240404-Visita-Cultural-Museo-Semana-Santa-Marinera-1.jpg
END:VEVENT
END:VCALENDAR