BEGIN:VCALENDAR
VERSION:2.0
PRODID:-//Ateneo Mercantil de Valencia - ECPv6.0.4//NONSGML v1.0//EN
CALSCALE:GREGORIAN
METHOD:PUBLISH
X-ORIGINAL-URL:https://historico.ateneovalencia.es
X-WR-CALDESC:Eventos para Ateneo Mercantil de Valencia
REFRESH-INTERVAL;VALUE=DURATION:PT1H
X-Robots-Tag:noindex
X-PUBLISHED-TTL:PT1H
BEGIN:VTIMEZONE
TZID:Europe/Madrid
BEGIN:DAYLIGHT
TZOFFSETFROM:+0100
TZOFFSETTO:+0200
TZNAME:CEST
DTSTART:20230326T010000
END:DAYLIGHT
BEGIN:STANDARD
TZOFFSETFROM:+0200
TZOFFSETTO:+0100
TZNAME:CET
DTSTART:20231029T010000
END:STANDARD
END:VTIMEZONE
BEGIN:VEVENT
DTSTART;TZID=Europe/Madrid:20231102T103000
DTEND;TZID=Europe/Madrid:20231102T123000
DTSTAMP:20260421T152513
CREATED:20231023T093612Z
LAST-MODIFIED:20231023T093613Z
UID:75677-1698921000-1698928200@historico.ateneovalencia.es
SUMMARY:Visita cultural a El Cabanyal\, la historia del barrio y cementerio municipal
DESCRIPTION:El Ateneo Mercantil de Valencia ha programado una salida cultural para el próximo jueves 2 de noviembre al Cementerio del Cabanyal en la que se explicará la historia del barrio y se hará un recorrido por el campo santo en el que hay ilustres valencianos como Mariano Benlliure. La salida está programada para un grupo de 80 personas y tiene un coste de 2 euros. La visita será a las 10.30 horas. Recordad que para inscribirse hay que hacerlo en Secretaría del Ateneo Mercantil. Tendremos como guía oficial a D. Rafael Solaz. \nEl punto de encuentro para la visita es en la puerta del cementerio\, en la calle Camino del Cabanyal\, 18 de Valencia y hay varias opciones para poder ir: si lo hace en autobús EMT tiene disponibles las líneas 67\, 98 y 99; mientras que si lo hace en Tren (Cercanías 3) y en Metro dispone de la línea 2. \nCartel:
URL:https://historico.ateneovalencia.es/evento/visita-cultural-a-el-cabanyal-la-historia-del-barrio-y-cementerio-municipal/
LOCATION:Externo\, Valencia
CATEGORIES:Visitas Culturales
ATTACH;FMTTYPE=image/jpeg:https://historico.ateneovalencia.es/wp-content/uploads/2023/10/20231102-Visita-Cultural-Cementerio-Cabanyal-1.jpg
END:VEVENT
BEGIN:VEVENT
DTSTART;TZID=Europe/Madrid:20231116T110000
DTEND;TZID=Europe/Madrid:20231116T133000
DTSTAMP:20260421T152513
CREATED:20231103T123132Z
LAST-MODIFIED:20231103T123245Z
UID:75764-1700132400-1700141400@historico.ateneovalencia.es
SUMMARY:Visita Cultural a Lo Rat Penat: conoce su historia y su gran fondo artístico y cultural
DESCRIPTION:El Ateneo Mercantil de Valencia ha programado una visita cultural a Lo Rat Penat el próximo jueves 16 de noviembre a las 11 horas en la que se visitará a la decana de les entidades culturales valencianistas. Lo Rat Penat fue fundada en 1878 por Constantí Llombart\, Teodor Llorente y Feliu Pizcueta\, representantes de las principales tendencias ideológicas de la época. Una institución dedicada a la promoción\, defensa\, enseñanza y difusión de la lengua valenciana y la cultura valenciana. \nEl punto de encuentro será en la puerta de Lo Rat Penat en la Calle del Trinquet de Cavallers\, 9 de Valencia a las 11 horas de la mañana. La visita es totalmente gratuita y está estipulada para un grupo de 80 personas. Pueden inscribirse en Secretaría del Ateneo Mercantil o bien llamando al 96.352.59.84. \nCartel:\n 
URL:https://historico.ateneovalencia.es/evento/visita-cultural-a-lo-rat-penat-historia-y-fondo-artistico-y-cultural/
LOCATION:Externo\, Valencia
CATEGORIES:Visitas Culturales
ATTACH;FMTTYPE=image/jpeg:https://historico.ateneovalencia.es/wp-content/uploads/2023/11/20231116-Visita-a-Lo-Rat-Penat.jpg
END:VEVENT
BEGIN:VEVENT
DTSTART;TZID=Europe/Madrid:20231130T090000
DTEND;TZID=Europe/Madrid:20231130T140000
DTSTAMP:20260421T152513
CREATED:20231103T120553Z
LAST-MODIFIED:20231103T120558Z
UID:75759-1701334800-1701352800@historico.ateneovalencia.es
SUMMARY:Visita Cultural a Meliana: Belén de Roca y Palauet de Nolla
DESCRIPTION:El Ateneo Mercantil de Valencia ha programado una visita cultural a Meliana el próximo jueves 30 de noviembre en la que se visitará uno de los belenes más grandes de la Comunitat Valenciana\, el Belén de Roca. Además\, se realizará una visita guiada por el Palauet de Nolla. \nLa salida del autobús será desde el punto de encuentro habitual\, Calle Poeta Querol\, 8 de Valencia (junto al Teatro Principal) a las 9.15 horas de la mañana y el regreso se estima para las 14.15 horas. Hay dos modalidades de visita cultural: con almuerzo (13 euros) y sin almuerzo (6 euros). Además\, en la visita al Belén de Roca se dará la voluntad a la entrada. El viaje está estipulado para un grupo de 50 personas. Pueden inscribirse en Secretaría del Ateneo Mercantil. \nPalauet de Nolla: El edificio es espectacular. Nos aproximaremos a su historia y a su restauración gracias al espacio expositivo que explica la importancia del mosaico Nolla y del Palauet. \nBelén de Roca: Es el más grande de Valencia y el de más figuras de España. Desde hace más de 20 años Melchor Almela Lagarda\, maestro belenista realiza este monumental belén junto a su propia familia\, la familia Pascual-Doménech y la colaboración de amigos. El belén tiene más de 50 metros cuadrados y cerca de 7.000 figuras. \nCartel:
URL:https://historico.ateneovalencia.es/evento/visita-cultural-a-meliana-belen-de-roca-y-palauet-de-nolla/
LOCATION:Externo\, Valencia
CATEGORIES:Visitas Culturales
ATTACH;FMTTYPE=image/jpeg:https://historico.ateneovalencia.es/wp-content/uploads/2023/11/20231130-Visita-Meliana-Belen-de-Roca.jpg
END:VEVENT
END:VCALENDAR