BEGIN:VCALENDAR
VERSION:2.0
PRODID:-//Ateneo Mercantil de Valencia - ECPv6.0.4//NONSGML v1.0//EN
CALSCALE:GREGORIAN
METHOD:PUBLISH
X-ORIGINAL-URL:https://historico.ateneovalencia.es
X-WR-CALDESC:Eventos para Ateneo Mercantil de Valencia
REFRESH-INTERVAL;VALUE=DURATION:PT1H
X-Robots-Tag:noindex
X-PUBLISHED-TTL:PT1H
BEGIN:VTIMEZONE
TZID:Europe/Madrid
BEGIN:DAYLIGHT
TZOFFSETFROM:+0100
TZOFFSETTO:+0200
TZNAME:CEST
DTSTART:20230326T010000
END:DAYLIGHT
BEGIN:STANDARD
TZOFFSETFROM:+0200
TZOFFSETTO:+0100
TZNAME:CET
DTSTART:20231029T010000
END:STANDARD
END:VTIMEZONE
BEGIN:VEVENT
DTSTART;TZID=Europe/Madrid:20230927T090000
DTEND;TZID=Europe/Madrid:20230927T143000
DTSTAMP:20260421T195114
CREATED:20230720T112859Z
LAST-MODIFIED:20230913T104549Z
UID:75121-1695805200-1695825000@historico.ateneovalencia.es
SUMMARY:Visita Cultural a la fábrica de Porcelanosa y murallas de Mascarell
DESCRIPTION:El Ateneo Mercantil de Valencia ha proyectado una visita cultural para el próximo mes de septiembre en la que se conocerá de cerca la fábrica de la empresa de cerámica de Vila-real\, Porcelanosa. A la vuelta se hará una parada en el pueblo de Mascarell para ver sus murallas\, la única población de la Comunitat Valenciana completamente amurallada. \nEl punto de encuentro para la salida del bus será en la calle Poeta Querol\, 8 (próximo al Museo de Cerámica) a las 9.15 horas y el regreso a valencia será no antes de las 14.30 horas. Para la visita de Porcelanosa contaremos con guías oficiales\, mientras que contaremos con otra persona que explicará la historia de las murallas de Mascarell. \nLa excursión está prevista para 50 socios y acompañantes\, las inscripciones sólo se pueden hacer en Secretaría del Ateneo  ya que hay que abonar los 9 euros del coste del bus y del seguro de viaje. \nCartel:
URL:https://historico.ateneovalencia.es/evento/visita-cultural-a-la-fabrica-de-porcelanosa-y-murallas-de-mascarell/
LOCATION:Salida Bus - Poeta Querol\, 8
CATEGORIES:Visitas Culturales
ATTACH;FMTTYPE=image/jpeg:https://historico.ateneovalencia.es/wp-content/uploads/2023/07/20230921-Visita-Cultural-Porcelonosa-Mascarell.jpg
END:VEVENT
END:VCALENDAR