BEGIN:VCALENDAR
VERSION:2.0
PRODID:-//Ateneo Mercantil de Valencia - ECPv6.0.4//NONSGML v1.0//EN
CALSCALE:GREGORIAN
METHOD:PUBLISH
X-ORIGINAL-URL:https://historico.ateneovalencia.es
X-WR-CALDESC:Eventos para Ateneo Mercantil de Valencia
REFRESH-INTERVAL;VALUE=DURATION:PT1H
X-Robots-Tag:noindex
X-PUBLISHED-TTL:PT1H
BEGIN:VTIMEZONE
TZID:Europe/Madrid
BEGIN:DAYLIGHT
TZOFFSETFROM:+0100
TZOFFSETTO:+0200
TZNAME:CEST
DTSTART:20230326T010000
END:DAYLIGHT
BEGIN:STANDARD
TZOFFSETFROM:+0200
TZOFFSETTO:+0100
TZNAME:CET
DTSTART:20231029T010000
END:STANDARD
END:VTIMEZONE
BEGIN:VEVENT
DTSTART;TZID=Europe/Madrid:20230209T110000
DTEND;TZID=Europe/Madrid:20230209T130000
DTSTAMP:20260421T144934
CREATED:20230127T084446Z
LAST-MODIFIED:20230127T084448Z
UID:72783-1675940400-1675947600@historico.ateneovalencia.es
SUMMARY:Visita Cultural a la Plaza de Toros y el Museo Taurino de Valencia
DESCRIPTION:El Ateneo Mercantil de Valencia en colaboración con la Exma. Diputación de Valencia ha programado una visita cultural GRATUITA a la Plaza de Toros y el Museo Taurino de Valencia el próximo jueves 9 de febrero. El punto de encuentro será la puerta del museo taurino en el Pasaje Doctor Serra\, 10 de Valencia\, a las 11 horas. La visita está programada para 80 personas\, un primer grupo de 40 socios visitará primero todos los rincones del coso taurino con la coordinadora de la Plaza de Toros\, Pepa Rodríguez\, y el otro grupo de 40 personas recorrerá el museo con el socio y compañero de la Tertulia Taurina del Ateneo\, Nicasio Jiménez. Tras una hora de visita\, los grupos se cambiarán y harán la visita inversa. \nInscripciones en Secretaría (quinta planta) o llamando al teléfono 96.352.59.84. Recordar que es imprescindible dar el nombre\, apellidos y el DNI porque nos han pedido listados en ambas visitas.\nCartel:
URL:https://historico.ateneovalencia.es/evento/visita-cultural-a-la-plaza-de-toros-y-el-museo-taurino-de-valencia/
LOCATION:Valencia
CATEGORIES:Visitas Culturales
ATTACH;FMTTYPE=image/jpeg:https://historico.ateneovalencia.es/wp-content/uploads/2023/01/20230209-Visita-Plaza-de-Toros-y-Museo-Taurino.jpg
END:VEVENT
BEGIN:VEVENT
DTSTART;TZID=Europe/Madrid:20230223T093000
DTEND;TZID=Europe/Madrid:20230223T133000
DTSTAMP:20260421T144934
CREATED:20230127T120213Z
LAST-MODIFIED:20230127T120214Z
UID:72797-1677144600-1677159000@historico.ateneovalencia.es
SUMMARY:Visita Cultural al Real Monasterio de Santa María de El Puig y al Museo de la Imprenta de Valencia
DESCRIPTION:El Ateneo Mercantil de Valencia ha programado una nueva visita cultural para este mes el próximo día 23 de febrero de 2023 al Real Monasterio de Santa María de El Puig y al Museo de la Imprenta de Valencia que se encuentra en la misma población valenciana. La visita se realizará con autobús por lo que hay que abonar 7 euros para sufragar el seguro de viaje\, la contratación del autobús y la entrada al Museo de la Imprenta. \nEl punto de encuentro para los que realicen la visita será la calle Poeta Querol\, 8 de Valencia a las 9.30 horas\, desde donde saldrá el bus\, y el regreso a Valencia será a las 13.30 horas. La visita tiene una duración completa de dos  horas y media. La visita se ha contemplado para un grupo de 50 socios. Las dos visitas se realizarán con Guías Oficiales tanto en el monasterio como en el Museo de la Imprenta\, que contaremos con la presencia del senador del museo\, D. Enrique Fink. El Jefe de grupo es Vicente Bosch. \nCabe recordarles que las inscripciones tan sólo se pueden realizar de manera presencial en Secretaría (quinta Planta del Ateneo). \nCartel:\n \n 
URL:https://historico.ateneovalencia.es/evento/visita-cultural-al-real-monasterio-de-santa-maria-de-el-puig-y-al-museo-de-la-imprenta-de-valencia/
LOCATION:Externo\, Valencia
CATEGORIES:Visitas Culturales
ATTACH;FMTTYPE=image/jpeg:https://historico.ateneovalencia.es/wp-content/uploads/2023/01/20230223-Monaterio-de-El-Puig.jpg
END:VEVENT
END:VCALENDAR