BEGIN:VCALENDAR
VERSION:2.0
PRODID:-//Ateneo Mercantil de Valencia - ECPv6.0.4//NONSGML v1.0//EN
CALSCALE:GREGORIAN
METHOD:PUBLISH
X-WR-CALNAME:Ateneo Mercantil de Valencia
X-ORIGINAL-URL:https://historico.ateneovalencia.es
X-WR-CALDESC:Eventos para Ateneo Mercantil de Valencia
REFRESH-INTERVAL;VALUE=DURATION:PT1H
X-Robots-Tag:noindex
X-PUBLISHED-TTL:PT1H
BEGIN:VTIMEZONE
TZID:Europe/Madrid
BEGIN:DAYLIGHT
TZOFFSETFROM:+0100
TZOFFSETTO:+0200
TZNAME:CEST
DTSTART:20220327T010000
END:DAYLIGHT
BEGIN:STANDARD
TZOFFSETFROM:+0200
TZOFFSETTO:+0100
TZNAME:CET
DTSTART:20221030T010000
END:STANDARD
END:VTIMEZONE
BEGIN:VEVENT
DTSTART;TZID=Europe/Madrid:20221103T110000
DTEND;TZID=Europe/Madrid:20221103T123000
DTSTAMP:20260421T223547
CREATED:20221024T122611Z
LAST-MODIFIED:20221026T151232Z
UID:71534-1667473200-1667478600@historico.ateneovalencia.es
SUMMARY:Visita Cultural al Museo del Silencio en el Cementerio General de Valencia
DESCRIPTION:El Ateneo Mercantil de Valencia ha organizado una visita cultural para el próximo jueves 3 de noviembre de 2022 al Cementerio General de Valencia para descubrir\, de la mano de Rafael Solaz\, el Museo del Silencio. El punto de encuentro para realizar la visita será en la Puerta Principal del Cementerio (Calle Santo Domingo de Guzmán\, 27) a las 11 horas. \nAdemás\, hay que indicar que la visita está programada para un grupo de 80 personas y el precio será totalmente gratuito. El guía es el propio Rafael Solaz\, al que se le dará la voluntad cuando acabe la visita. \nInscripciones en Secretaría del Ateneo Mercantil o llamando al teléfono 963525984\nCartel:
URL:https://historico.ateneovalencia.es/evento/visita-cultural-al-museo-del-silencio-en-el-cementerio-general-de-valencia/
LOCATION:Externo\, Valencia
CATEGORIES:Visitas Culturales
ATTACH;FMTTYPE=image/jpeg:https://historico.ateneovalencia.es/wp-content/uploads/2022/10/20221103-Visita-Cultural-Museo-Silencio-Cementerio.jpg
END:VEVENT
BEGIN:VEVENT
DTSTART;TZID=Europe/Madrid:20221117T100000
DTEND;TZID=Europe/Madrid:20221117T140000
DTSTAMP:20260421T223547
CREATED:20221024T120905Z
LAST-MODIFIED:20221024T120907Z
UID:71530-1668679200-1668693600@historico.ateneovalencia.es
SUMMARY:Visita Cultural al Centro de Tecnologías de la Información y las Comunicaciones de las Naciones Unidas (Quart de Poblet)
DESCRIPTION:El Ateneo Mercantil de Valencia ha organizado una visita cultural para el próximo jueves 17 de noviembre de 2022 al Centro de Tecnologías de la Información y las Comunicaciones de las Naciones Unidas que está en Quart de Poblet. Una visita se realizará en autobús y el punto de encuentro para la salida será a las 10 horas en la calle Poeta Querol (a la altura del Teatro Principal). \nAdemás\, hay que indicar que la visita está programada para un grupo de 50 personas y el precio es de 5 euros (autobús y seguro). Será imprescindible portar encima el DNI y el regreso a Valencia será a las 14 horas. Cuando se realice la inscripción se debe dar el nombre\, apellidos y el número del DNI. \nInscripciones en Secretaría del Ateneo Mercantil o llamando al teléfono 963525984\nCartel:\n \n 
URL:https://historico.ateneovalencia.es/evento/visita-cultural-al-centro-de-tecnologias-de-la-informacion-y-las-comunicaciones-de-las-naciones-unidas-quart-de-poblet/
LOCATION:Externo\, Valencia
CATEGORIES:Visitas Culturales
ATTACH;FMTTYPE=image/jpeg:https://historico.ateneovalencia.es/wp-content/uploads/2022/10/20221117-Visita-Cultural-ONU-Quart-Poblet-1.jpg
END:VEVENT
END:VCALENDAR