BEGIN:VCALENDAR
VERSION:2.0
PRODID:-//Ateneo Mercantil de Valencia - ECPv6.0.4//NONSGML v1.0//EN
CALSCALE:GREGORIAN
METHOD:PUBLISH
X-WR-CALNAME:Ateneo Mercantil de Valencia
X-ORIGINAL-URL:https://historico.ateneovalencia.es
X-WR-CALDESC:Eventos para Ateneo Mercantil de Valencia
REFRESH-INTERVAL;VALUE=DURATION:PT1H
X-Robots-Tag:noindex
X-PUBLISHED-TTL:PT1H
BEGIN:VTIMEZONE
TZID:Europe/Madrid
BEGIN:DAYLIGHT
TZOFFSETFROM:+0100
TZOFFSETTO:+0200
TZNAME:CEST
DTSTART:20250330T010000
END:DAYLIGHT
BEGIN:STANDARD
TZOFFSETFROM:+0200
TZOFFSETTO:+0100
TZNAME:CET
DTSTART:20251026T010000
END:STANDARD
END:VTIMEZONE
BEGIN:VEVENT
DTSTART;TZID=Europe/Madrid:20250619T090000
DTEND;TZID=Europe/Madrid:20250623T123000
DTSTAMP:20260421T013332
CREATED:20241205T095541Z
LAST-MODIFIED:20241205T113012Z
UID:82450-1750323600-1750681800@historico.ateneovalencia.es
SUMMARY:Descubre Budapest: La Sinfonía del Danubio - Viajes Ateneo
DESCRIPTION:El Ateneo Mercantil de Valencia\, junto a TransVía Viajes\, te invita a sumergirte en el corazón de Europa con un viaje inolvidable a Budapest\, la Sinfonía del Danubio\, del 19 al 23 de junio de 2025. Este recorrido combina historia\, cultura y música en una de las ciudades más bellas del mundo. \n\nItinerario del viaje\n📅 Día 1 (Jueves 19 de junio): \n\nVuelo directo Valencia - Budapest (10:45 - 13:35h).\nLlegada\, traslado y alojamiento en el Hotel Danube 4*.\n\n📅 Día 2 (Viernes 20 de junio): \n\nRecorrido por la Plaza Milenaria\, Castillo de Vajdahunyad\, Avenida Andrássy\, la Catedral\, la Sinagoga y el Mercado Central.\nPor la tarde\, entrada a un espectáculo de Ópera.\n\n📅 Día 3 (Sábado 21 de junio): \n\nVisitas al Bastión de los Pescadores y la Iglesia de Matías.\n\n📅 Día 4 (Domingo 22 de junio): \n\nExcursión a Gödöllö para visitar el majestuoso Palacio Gödöllö\, antigua residencia de la emperatriz Sissi.\n\n📅 Día 5 (Lunes 23 de junio): \n\nRegreso con vuelo directo Budapest - Valencia (09:45 - 12:05h).\n\n\nServicios incluidos:\n✈️ Vuelos directos de ida y vuelta Valencia - Budapest.\n🚌 Traslados en autocar privado.\n🏨 Alojamiento en el Hotel Danube 4* en el centro de Budapest.\n🍽️ 4 desayunos\, 4 comidas en restaurantes y 3 cenas.\n🚤 Crucero por el Danubio con cena incluida.\n🎫 Entradas: Bastión de los Pescadores\, Ópera e Iglesia de Matías.\n🗣️ Visitas guiadas en español. \n\nPrecio del viaje:\n\nHabitación doble: 1590 € por persona.\nHabitación individual: 2090 € (suplemento de 500 €).\n\n📅 Inscripciones abiertas: Desde el jueves 12 de diciembre a las 9:00 h en Secretaría del Ateneo.\n💶 Reserva: 750 € por persona para garantizar tu plaza. \n\nNo te pierdas la oportunidad de descubrir Budapest y vivir momentos únicos en un viaje que combina cultura\, historia y paisajes inolvidables. ¡Reserva tu plaza y déjate llevar por la magia del Danubio! 🌟
URL:https://historico.ateneovalencia.es/evento/descubre-budapest-la-sinfonia-del-danubio-viajes-ateneo/
LOCATION:Externo\, Valencia
CATEGORIES:Viajes
ATTACH;FMTTYPE=image/jpeg:https://historico.ateneovalencia.es/wp-content/uploads/2024/12/20250619-Viaje-a-Budapest.jpg
END:VEVENT
END:VCALENDAR