BEGIN:VCALENDAR
VERSION:2.0
PRODID:-//Ateneo Mercantil de Valencia - ECPv6.0.4//NONSGML v1.0//EN
CALSCALE:GREGORIAN
METHOD:PUBLISH
X-WR-CALNAME:Ateneo Mercantil de Valencia
X-ORIGINAL-URL:https://historico.ateneovalencia.es
X-WR-CALDESC:Eventos para Ateneo Mercantil de Valencia
REFRESH-INTERVAL;VALUE=DURATION:PT1H
X-Robots-Tag:noindex
X-PUBLISHED-TTL:PT1H
BEGIN:VTIMEZONE
TZID:Europe/Madrid
BEGIN:DAYLIGHT
TZOFFSETFROM:+0100
TZOFFSETTO:+0200
TZNAME:CEST
DTSTART:20250330T010000
END:DAYLIGHT
BEGIN:STANDARD
TZOFFSETFROM:+0200
TZOFFSETTO:+0100
TZNAME:CET
DTSTART:20251026T010000
END:STANDARD
END:VTIMEZONE
BEGIN:VEVENT
DTSTART;TZID=Europe/Madrid:20250509T083000
DTEND;TZID=Europe/Madrid:20250509T190000
DTSTAMP:20260421T201357
CREATED:20250420T185441Z
LAST-MODIFIED:20250420T185441Z
UID:83674-1746779400-1746817200@historico.ateneovalencia.es
SUMMARY:Moixent. Un viaje a la Contestania Ibérica
DESCRIPTION:La Fundación del Ateneo te invita a una jornada única entre historia\, naturaleza y gastronomía. Ven a descubrir el legado íbero en Moixent\, en una excursión que combina cultura y tradición. \n📅 Fecha: Viernes\, 9 de mayo de 2025🕗 Punto de encuentro: C/ Poeta Querol\, 6 — a las 8:30 h⏱ Regreso a Valencia: 19:00 h \n🏛 Visitas programadas:\n\n\nYacimiento-poblado íbero de la Bastida de les Alcusses \n\n\nParroquia de San Pedro Apóstol \n\n\n🍽 Comida en Restaurante La Piscina:\nEntrantes (a compartir): Ibéricos\, ensalada\, croquetasPrincipal: Gazpacho manchego \n\n💶 Precio:\n\n\nAula Cultural+/Socios Ateneo: 50 € \n\n\nNo socios: 55 € \n\n\nIncluye: Autobús\, seguro\, comida y visitas culturales.Pago en Secretaría. \n\n📋 Inscripciones:\n\n\nAula Cultural+: del 16 al 23 de abril \n\n\nSocios Ateneo: del 23 al 30 de abril \n\n\nNo socios: del 30 de abril al 7 de mayo \n\n\n📧 Más información: fundacion@ateneovalencia.es \nCartel:
URL:https://historico.ateneovalencia.es/evento/moixent-un-viaje-a-la-contestania-iberica/
LOCATION:Externo\, Valencia
CATEGORIES:Viajes
ATTACH;FMTTYPE=image/jpeg:https://historico.ateneovalencia.es/wp-content/uploads/2025/04/20250509-Viaje-Moixent.jpg
END:VEVENT
END:VCALENDAR