BEGIN:VCALENDAR
VERSION:2.0
PRODID:-//Ateneo Mercantil de Valencia - ECPv6.0.4//NONSGML v1.0//EN
CALSCALE:GREGORIAN
METHOD:PUBLISH
X-WR-CALNAME:Ateneo Mercantil de Valencia
X-ORIGINAL-URL:https://historico.ateneovalencia.es
X-WR-CALDESC:Eventos para Ateneo Mercantil de Valencia
REFRESH-INTERVAL;VALUE=DURATION:PT1H
X-Robots-Tag:noindex
X-PUBLISHED-TTL:PT1H
BEGIN:VTIMEZONE
TZID:Europe/Madrid
BEGIN:DAYLIGHT
TZOFFSETFROM:+0100
TZOFFSETTO:+0200
TZNAME:CEST
DTSTART:20250330T010000
END:DAYLIGHT
BEGIN:STANDARD
TZOFFSETFROM:+0200
TZOFFSETTO:+0100
TZNAME:CET
DTSTART:20251026T010000
END:STANDARD
END:VTIMEZONE
BEGIN:VEVENT
DTSTART;TZID=Europe/Madrid:20250430T100000
DTEND;TZID=Europe/Madrid:20250507T150000
DTSTAMP:20260421T152141
CREATED:20241204T174437Z
LAST-MODIFIED:20241205T112933Z
UID:82447-1746007200-1746630000@historico.ateneovalencia.es
SUMMARY:Descubre el encanto del Loira con el Ateneo Mercantil - Inscripciones abiertas el 9 de diciembre
DESCRIPTION:El Ateneo Mercantil de Valencia\, en colaboración con su agencia de confianza Transvía Viajes\, organiza un Crucero Fluvial por el Loira del 30 de abril al 7 de mayo de 2025\, una experiencia inolvidable que incluye visitas a los majestuosos Castillos del Loira y la encantadora ciudad de Nantes. \n\nDetalles del viaje:\n📅 Fechas: \n\nDía 1 (Miércoles 30 abril): Valencia - Nantes\nDía 2 (Jueves 1 mayo): Saint Nazaire - Nantes\nDía 3 (Viernes 2 mayo): Nantes con cata de vinos\nDía 4 (Sábado 3 mayo): Anciens - Chalonnes Sur Loire (Angers) - Castillo de Brissac\nDía 5 (Domingo 4 mayo): Chalonnes Sur Loire - Anciens - Villandry\nDía 6 (Lunes 5 mayo): Nantes (Museo Julio Verne)\nDía 7 (Martes 6 mayo): Puy du Fou Francia\nDía 8 (Miércoles 7 mayo): Nantes - Valencia\n\n🏨 Alojamiento: \n\n2 noches: Oceanía Hotel de France 4* (Nantes).\n5 noches: Crucero Loire Princesse (5 anclas).\n\n\nPrecios y reservas:\n💶 Coste: \n\nHabitación doble: 2825 € por persona.\nHabitación individual: 3710 € (incluye un suplemento de 885 €).\n\n📅 Inscripciones: \n\nFecha de apertura: Lunes 9 de diciembre de 2024 a las 9:00 h.\nReserva: 1000 € por persona al momento de la inscripción.\n\n\nServicios incluidos:\n✈️ Vuelos ida y vuelta: Valencia-Nantes (11:10-12:55h) Nantes-Valencia (13:20-15h)\n🚌 Traslados aeropuerto-hotel y puerto fluvial.\n🛳️ Pensión completa a bordo del crucero.\n📍 Excursiones y visitas guiadas en cada destino: \n\nVisita a Nantes con cata de vinos.\nEntrada al parque Puy du Fou Francia.\nVisitas a los Castillos del Loira\, incluyendo Villandry y Brissac.\n🎫 Entradas a museos y actividades programadas.\n\n\nEmbárcate en esta aventura única y déjate maravillar por los paisajes\, la historia y la gastronomía del Loira. ¡Plazas limitadas! Reserva la tuya en Secretaría del Ateneo. ✨
URL:https://historico.ateneovalencia.es/evento/descubre-el-encanto-del-loira-con-el-ateneo-mercantil-inscripciones-abiertas-el-9-de-diciembre/
LOCATION:Secretaría Ateneo
CATEGORIES:Viajes
ATTACH;FMTTYPE=image/jpeg:https://historico.ateneovalencia.es/wp-content/uploads/2024/12/20241209-Viaje-LOIRA.jpg
END:VEVENT
END:VCALENDAR