BEGIN:VCALENDAR
VERSION:2.0
PRODID:-//Ateneo Mercantil de Valencia - ECPv6.0.4//NONSGML v1.0//EN
CALSCALE:GREGORIAN
METHOD:PUBLISH
X-WR-CALNAME:Ateneo Mercantil de Valencia
X-ORIGINAL-URL:https://historico.ateneovalencia.es
X-WR-CALDESC:Eventos para Ateneo Mercantil de Valencia
REFRESH-INTERVAL;VALUE=DURATION:PT1H
X-Robots-Tag:noindex
X-PUBLISHED-TTL:PT1H
BEGIN:VTIMEZONE
TZID:Europe/Madrid
BEGIN:DAYLIGHT
TZOFFSETFROM:+0100
TZOFFSETTO:+0200
TZNAME:CEST
DTSTART:20250330T010000
END:DAYLIGHT
BEGIN:STANDARD
TZOFFSETFROM:+0200
TZOFFSETTO:+0100
TZNAME:CET
DTSTART:20251026T010000
END:STANDARD
END:VTIMEZONE
BEGIN:VEVENT
DTSTART;TZID=Europe/Madrid:20250203T160000
DTEND;TZID=Europe/Madrid:20250216T113000
DTSTAMP:20260421T034333
CREATED:20241010T113023Z
LAST-MODIFIED:20241010T113023Z
UID:81782-1738598400-1739705400@historico.ateneovalencia.es
SUMMARY:Viaje a Vietnam y Camboya - Exclusivo socios
DESCRIPTION:El Ateneo Mercantil de Valencia organiza junto a Transvía Mucho más que viajes el Viaje a Vietnam y Camboya. Un viaje que se realizará del 3 al 15 de febrero de 2025 y en el que se recorrerán puntos emblemáticos de los dos países como Hanoi\, Halong Bay\, Saigón\, Angkor o Siem Reap. El vuelo saldrá desde Valencia y el viaje es en modalidad de Todo Incluido. \nTítulo: viaje a Vietnam y Camboya (exclusivo socios del Ateneo) \nDías: Del 3 al 15 de febrero de 2025 (llegada al aeropuerto de Valencia el 16/2 a las 11.15 horas) \nPrecio: 4.500€ en habitación Doble con Suplemento para Habitación Individual: 995€ \nHoteles: Hanoi (2 noches en el Pan Pacific Hanoi); Bahía de Halong (1 noche en el Paradise Grand Cruise); Hue (1 noche en el Senna Hue Hotel)\, Hoi An (2 noches en el Allegro Hoi An. A Little Luxury Hotel & Spa); Saigon (2 noches en el Harmony Saigon Hotel & Spa) y Siem Reap (3 noches en el Lotus Blanc Resort). \nExclusivo socios \nCartel:\n \n 
URL:https://historico.ateneovalencia.es/evento/viaje-a-vietnam-y-camboya-exclusivo-socios/
LOCATION:Salón Sorolla - Ateneo Mercantil de Valencia\, Plaza del Ayuntamiento 18\, Valencia\, Valencia\, 46002\, España
CATEGORIES:Viajes
ATTACH;FMTTYPE=image/jpeg:https://historico.ateneovalencia.es/wp-content/uploads/2024/10/20241008-Presentacion-Viaje-Vietnam-Camboya.jpg
END:VEVENT
BEGIN:VEVENT
DTSTART;TZID=Europe/Madrid:20250205T160000
DTEND;TZID=Europe/Madrid:20250218T113000
DTSTAMP:20260421T034333
CREATED:20241015T100617Z
LAST-MODIFIED:20241015T100744Z
UID:81842-1738771200-1739878200@historico.ateneovalencia.es
SUMMARY:Segundo Viaje a Vietnam y Camboya - Exclusivo socios
DESCRIPTION:Tras cerrarse el primer grupo del viaje a Vietnam y Camboya\, el Ateneo Mercantil de Valencia abre un segundo grupo para realizar el mismo viaje pero unos días después en colaboración con Transvía Mucho más que viajes. El viaje que se realizará del 5 al 18 de febrero de 2025 y en el que se recorrerán puntos emblemáticos de los dos países como Hanoi\, Halong Bay\, Saigón\, Angkor o Siem Reap. El vuelo saldrá desde Valencia y el viaje es en modalidad de Todo Incluido. \nTítulo: viaje a Vietnam y Camboya (exclusivo socios del Ateneo) \nDías: Del 3 al 17 de febrero de 2025 (llegada al aeropuerto de Valencia el 18/2 a las 11.15 horas) \nPrecio: 4.500€ en habitación Doble con Suplemento para Habitación Individual: 995€ \nHoteles: Hanoi (2 noches en el Pan Pacific Hanoi); Bahía de Halong (1 noche en el Paradise Grand Cruise); Hue (1 noche en el Senna Hue Hotel)\, Hoi An (2 noches en el Allegro Hoi An. A Little Luxury Hotel & Spa); Saigon (2 noches en el Harmony Saigon Hotel & Spa) y Siem Reap (3 noches en el Lotus Blanc Resort). \nExclusivo socios \nCartel:\n \n 
URL:https://historico.ateneovalencia.es/evento/segundo-viaje-a-vietnam-y-camboya-exclusivo-socios/
LOCATION:Salón Sorolla - Ateneo Mercantil de Valencia\, Plaza del Ayuntamiento 18\, Valencia\, Valencia\, 46002\, España
CATEGORIES:Viajes
ATTACH;FMTTYPE=image/jpeg:https://historico.ateneovalencia.es/wp-content/uploads/2024/10/20241008-Presentacion-Viaje-Vietnam-Camboya.jpg
END:VEVENT
END:VCALENDAR