BEGIN:VCALENDAR
VERSION:2.0
PRODID:-//Ateneo Mercantil de Valencia - ECPv6.0.4//NONSGML v1.0//EN
CALSCALE:GREGORIAN
METHOD:PUBLISH
X-WR-CALNAME:Ateneo Mercantil de Valencia
X-ORIGINAL-URL:https://historico.ateneovalencia.es
X-WR-CALDESC:Eventos para Ateneo Mercantil de Valencia
REFRESH-INTERVAL;VALUE=DURATION:PT1H
X-Robots-Tag:noindex
X-PUBLISHED-TTL:PT1H
BEGIN:VTIMEZONE
TZID:Europe/Madrid
BEGIN:DAYLIGHT
TZOFFSETFROM:+0100
TZOFFSETTO:+0200
TZNAME:CEST
DTSTART:20240331T010000
END:DAYLIGHT
BEGIN:STANDARD
TZOFFSETFROM:+0200
TZOFFSETTO:+0100
TZNAME:CET
DTSTART:20241027T010000
END:STANDARD
END:VTIMEZONE
BEGIN:VEVENT
DTSTART;TZID=Europe/Madrid:20241219T083000
DTEND;TZID=Europe/Madrid:20241219T143000
DTSTAMP:20260421T041201
CREATED:20241101T162928Z
LAST-MODIFIED:20241105T113107Z
UID:82028-1734597000-1734618600@historico.ateneovalencia.es
SUMMARY:Viajes Ateneo | Requena: Conjunto Histórico-Artístico
DESCRIPTION:El Ateneo Mercantil de Valencia organiza un viaje de día hasta la población valenciana de Requena\, en la que se visitará el conjunto histórico y artístico\, además\, de disfrutar de un almuerzo y Cata en la Bodega Honda\, una cueva del s. XIII. Se visitará el Monumento a la Vendimia\, los templos góticos de Santa María y Salcador\, el Palacio del Cid\, la Plaza de Albornoz\, la Casa de la Seda y el Castillo. \nEl punto de encuentro será la Calle Poeta Querol\, 8 a las 8.30 horas de la mañana\, desde donde sale el autobús. El precio de la visita es de 25 euros y en él se incluye el autobús\, el seguro de viaje y el almuerzo. Nos acompañará en las explicaciones: Federico Martínez. Inscripciones y tiques en Secretaría. \nCartel:
URL:https://historico.ateneovalencia.es/evento/viajes-ateneo-requena-conjunto-historico-artistico/
LOCATION:Externo\, Valencia
CATEGORIES:Viajes
ATTACH;FMTTYPE=image/jpeg:https://historico.ateneovalencia.es/wp-content/uploads/2024/11/20241219-Viaje-Requena-1.jpg
END:VEVENT
END:VCALENDAR