BEGIN:VCALENDAR
VERSION:2.0
PRODID:-//Ateneo Mercantil de Valencia - ECPv6.0.4//NONSGML v1.0//EN
CALSCALE:GREGORIAN
METHOD:PUBLISH
X-WR-CALNAME:Ateneo Mercantil de Valencia
X-ORIGINAL-URL:https://historico.ateneovalencia.es
X-WR-CALDESC:Eventos para Ateneo Mercantil de Valencia
REFRESH-INTERVAL;VALUE=DURATION:PT1H
X-Robots-Tag:noindex
X-PUBLISHED-TTL:PT1H
BEGIN:VTIMEZONE
TZID:Europe/Madrid
BEGIN:DAYLIGHT
TZOFFSETFROM:+0100
TZOFFSETTO:+0200
TZNAME:CEST
DTSTART:20240331T010000
END:DAYLIGHT
BEGIN:STANDARD
TZOFFSETFROM:+0200
TZOFFSETTO:+0100
TZNAME:CET
DTSTART:20241027T010000
END:STANDARD
END:VTIMEZONE
BEGIN:VEVENT
DTSTART;TZID=Europe/Madrid:20240620T173000
DTEND;TZID=Europe/Madrid:20240620T183000
DTSTAMP:20260421T001709
CREATED:20240610T105116Z
LAST-MODIFIED:20240610T105159Z
UID:80546-1718904600-1718908200@historico.ateneovalencia.es
SUMMARY:Reunión de Viaje a Segorbe - Entrada de Toros y Caballos - Altura
DESCRIPTION:El Ateneo Mercantil de Valencia y nuestra agencia de confianza TransVía Mucho más que Viajes presentan un nuevo viaje en el que se aunará la Cultura\, la Gastronomía y el Folclore. La reunión de este viaje a Segorbe y Altura será el próximo jueves 20 de junio a las 17.30 horas en el Salón Stolz del Ateneo. \nEl viaje será el próximo 11 y 12 de septiembre de 2024 en régimen de TODO INCLUIDO a la capital del Alto Palancia\, a Segorbe en donde se podrá disfrutar de las joyas arquitectónicas\, su Catedral\, el Palacio Episcopal\, su antigua muralla y el Castillo medieval. Además\, la visita se produce en la primera quincena de septiembre\, con lo que se podrá disfrutar de uno de los eventos más internacionales de la Comunitat Valenciana\, de la Entrada de Toros y Caballos. \nAdemás\, esta visita no sólo nos llevará a Segorbe\, sino que se visitará su localidad limítrofe\, Altura\, en la que se hará una visita a una Almazara de aceite\, y dos iconos turísticos de esta población como son el monasterio cartujo de la Cartuja de Vall de Cristo y el Santuario de la Cueva Santa. \nEste viaje contará con una noche de estancia en el remodelado Hotel Martín El Humano de 4*. Mientras que se realizará una comida especial en un restaurante de la Guía Michelín\, La Farola. \nCartel:
URL:https://historico.ateneovalencia.es/evento/reunion-de-viaje-a-segorbe-entrada-de-toros-y-caballos/
LOCATION:Salón Stolz - Ateneo Mercantil de Valencia\, Plaza del Ayuntamiento\, 18\, Valencia\, España\, Valencia\, Valencia\, 46002\, España
CATEGORIES:Viajes
ATTACH;FMTTYPE=image/jpeg:https://historico.ateneovalencia.es/wp-content/uploads/2024/06/20240620-Reunion-Viaje-Segorbe.jpg
END:VEVENT
END:VCALENDAR