BEGIN:VCALENDAR
VERSION:2.0
PRODID:-//Ateneo Mercantil de Valencia - ECPv6.0.4//NONSGML v1.0//EN
CALSCALE:GREGORIAN
METHOD:PUBLISH
X-WR-CALNAME:Ateneo Mercantil de Valencia
X-ORIGINAL-URL:https://historico.ateneovalencia.es
X-WR-CALDESC:Eventos para Ateneo Mercantil de Valencia
REFRESH-INTERVAL;VALUE=DURATION:PT1H
X-Robots-Tag:noindex
X-PUBLISHED-TTL:PT1H
BEGIN:VTIMEZONE
TZID:Europe/Madrid
BEGIN:DAYLIGHT
TZOFFSETFROM:+0100
TZOFFSETTO:+0200
TZNAME:CEST
DTSTART:20240331T010000
END:DAYLIGHT
BEGIN:STANDARD
TZOFFSETFROM:+0200
TZOFFSETTO:+0100
TZNAME:CET
DTSTART:20241027T010000
END:STANDARD
END:VTIMEZONE
BEGIN:VEVENT
DTSTART;TZID=Europe/Madrid:20240606T183000
DTEND;TZID=Europe/Madrid:20240606T200000
DTSTAMP:20260421T000213
CREATED:20240531T113949Z
LAST-MODIFIED:20240531T114254Z
UID:78190-1717698600-1717704000@historico.ateneovalencia.es
SUMMARY:Presentación de Viajes con precio especial para los Socios del Ateneo
DESCRIPTION:La Agencia de Viajes de confianza del Ateneo Mercantil de Valencia\, TransVía Mucho Más que Viajes\, ha organizado una nueva Presentación de Viajes para el próximo jueves 6 de junio de 2024 a las 18.30 horas en el Teatro Ateneo. Una presentación en la que\, todo aquel que vaya\, entrará en el sorteo de dos plazas para un circuito completo de 7 noches/8 días a Polonia con salida desde Valencia para el próximo día 1 de Septiembre de 2024. Además\, al finalizar la presentación se obsequiará a todos los asistentes a una horchata con fartons en el Salón Stolz del Ateneo Mercantil. \nImprescindible rellenar el siguiente formulario para apuntarse al evento:\nhttps://form.typeform.com/to/PZytfDeR\nVen al Teatro Ateneo y descubre la gran selección de viajes con salidas desde Valencia para Verano / Otoño\, para viajes individuales\, que Transvia oferta y que\, además\, ofrece un descuento directo a todos los socios del Ateneo Mercantil que quieras organizarse sus vacaciones. \nCartel:\n \n 
URL:https://historico.ateneovalencia.es/evento/presentacion-de-viajes-con-precio-especial-para-los-socios-del-ateneo/
LOCATION:Teatro Ateneo
CATEGORIES:Viajes
ATTACH;FMTTYPE=image/jpeg:https://historico.ateneovalencia.es/wp-content/uploads/2024/05/20240606-Reunion-Viajes-TransVia.jpg
END:VEVENT
END:VCALENDAR