BEGIN:VCALENDAR
VERSION:2.0
PRODID:-//Ateneo Mercantil de Valencia - ECPv6.0.4//NONSGML v1.0//EN
CALSCALE:GREGORIAN
METHOD:PUBLISH
X-WR-CALNAME:Ateneo Mercantil de Valencia
X-ORIGINAL-URL:https://historico.ateneovalencia.es
X-WR-CALDESC:Eventos para Ateneo Mercantil de Valencia
REFRESH-INTERVAL;VALUE=DURATION:PT1H
X-Robots-Tag:noindex
X-PUBLISHED-TTL:PT1H
BEGIN:VTIMEZONE
TZID:Europe/Madrid
BEGIN:DAYLIGHT
TZOFFSETFROM:+0100
TZOFFSETTO:+0200
TZNAME:CEST
DTSTART:20240331T010000
END:DAYLIGHT
BEGIN:STANDARD
TZOFFSETFROM:+0200
TZOFFSETTO:+0100
TZNAME:CET
DTSTART:20241027T010000
END:STANDARD
END:VTIMEZONE
BEGIN:VEVENT
DTSTART;TZID=Europe/Madrid:20240522T080000
DTEND;TZID=Europe/Madrid:20240527T210000
DTSTAMP:20260421T005838
CREATED:20240125T125850Z
LAST-MODIFIED:20240125T131622Z
UID:76519-1716364800-1716843600@historico.ateneovalencia.es
SUMMARY:Segundo Viaje a Grecia: Atenas – Micenas – Delfos – Islas (supeditado a un mínimo de plazas)
DESCRIPTION:El Ateneo Mercantil y la agencia de viajes Transvia Mucho más que viajes han organizado un segundo viaje a Grecia: Atenas – Micenas – Delfos – Islas\, ya que el primero se ha completado. Un viaje supeditado a un mínimo de plazas para poder realizarse y las fechas en las que se viajará será del 22 al 27 de mayo de 2024. \nInscripciones en Secretaría a partir del martes 30 de enero de 2024 y se abonará de deposito de reserva 1.000 euros.\nDIA 1º - VALENCIA / MADRID / ATENAS\nVisita panorámica del centro histórico de Atenas en autocar: construida en la cuenca del Ática\, entre los montes Parnés\, Pentélico e Imitos y cerca del Golfo Sarónico. Esta visita\, intenta introducir al visitante en la cultura y el arte del Helade. Seguiremos con el Ágora\, en el Estadio Panatenaico o Kalimármaro. El Arco de Adriano\, incansable guardián del Templo de Zeus Olímpico\, la plaza de Syntagma\, el actual Parlamento y los edificios Neoclásicos más significativos de Atenas. \nDIA 2º - ATENAS\nDesayuno en el hotel y salida para visitar recinto arqueológico de la Acrópolis con entrada al Museo de la Acrópolis: un tesoro milenario de valor incalculable para la humanidad. Seguiremos con la visita del barrio de Plaka donde tendremos el almuerzo: es el barrio más antiguo de Atenas. Por la tarde pasearemos por el barrio de Monastiraki. \nDIA 3º – CRUCERO de 1 día (HYDRA – POROS – AEGINIA)\nPrimera escala... HYDRA. Las hermosas fortalezas y las impresionantes mansiones\, disfrutando de un paseo por los pintorescos callejones o Incluso descubrir los monumentos históricos. \nLa siguiente parada\, la Isla de Poros. Una isla frondosa\, con una belleza natural insuperable\, considerada la isla de romance y la tranquilidad. La histórica y famosa torre del reloj de Poros\, con sus maravillosas vistas. \nLa última parada es la histórica Isla de Egina. La isla más grande del Golfo Sarónico (después de Salamina)\, que debe su nombre a la hermosa ninfa que fue secuestrada por Zeus. El Templo de Afaia (Afea). Tour guiado para visitar la Catedral Ortodoxa de Agios Nectarios y el Templo de Afaia. \nDIA 4º – ATENAS – CANAL DE CORINTO – TEATRO DE EPIDAURO – MICENAS – ATENAS \nSalida hacia el Canal de Corinto donde haremos una breve parada. Visitaremos el famoso teatro de Epidauro con guía local (entrada incluida). Continuaremos hacia la ciudad de Nauplia y llegaremos a Micenas: la Acrópolis\, donde visitaremos la Tumba de Agamenón\, la Puerta de los Leones. \nDIA 5º - ATENAS – DELFOS – ATENAS\nDurante el recorrido\, pararemos en el pintoresco pueblo de Arachova. Llegada a la impresionante terraza de increíble panorámica de Delfos. Visitaremos el Recinto Arqueológico de Delfos que se extiende y abraza el Monte Parnaso. Los Tesoros de las Polis o ciudades de la antigüedad. Destacan el de los Atenienses\, los Corintios\, el de Sifnos\, Tebas\, Siracusa\, etc.. Conoceremos el oulepterion\, la Columna y la esfinge de Naxos\, su teatro\, su estadio. Continuaremos con la visita del museo donde\, entre otras obras maestras de la época\, se exponen la escultura de bronce del auriga de Delfos\, obra del escultor Lisipos. \nDIA 6º – ATENAS – CABO SOUNION – ATENAS – VALENCIA\nMañana libre en Atenas. Salida hacia la Riviera del Atika y el Cabo Sunion. Por la tarde visita al recinto arqueológico de Sounio: es uno de los santuarios más importantes de Ática. Santuario de Poseidón que se sitúa en la parte sur\, la más alta del promontorio. Finalizada la visita a ultima hora de la tarde\, nos dirigimos al aeropuerto de Atenas\, para coger el vuelo directo a Valencia. \nCartel:
URL:https://historico.ateneovalencia.es/evento/segundo-viaje-a-grecia-atenas-micenas-delfos-islas-supeditado-a-un-minimo-de-plazas/
LOCATION:Externo\, Valencia
CATEGORIES:Viajes
ATTACH;FMTTYPE=image/jpeg:https://historico.ateneovalencia.es/wp-content/uploads/2024/01/20211109-Acropolis-Atenas.jpg
END:VEVENT
END:VCALENDAR