BEGIN:VCALENDAR
VERSION:2.0
PRODID:-//Ateneo Mercantil de Valencia - ECPv6.0.4//NONSGML v1.0//EN
CALSCALE:GREGORIAN
METHOD:PUBLISH
X-WR-CALNAME:Ateneo Mercantil de Valencia
X-ORIGINAL-URL:https://historico.ateneovalencia.es
X-WR-CALDESC:Eventos para Ateneo Mercantil de Valencia
REFRESH-INTERVAL;VALUE=DURATION:PT1H
X-Robots-Tag:noindex
X-PUBLISHED-TTL:PT1H
BEGIN:VTIMEZONE
TZID:Europe/Madrid
BEGIN:DAYLIGHT
TZOFFSETFROM:+0100
TZOFFSETTO:+0200
TZNAME:CEST
DTSTART:20230326T010000
END:DAYLIGHT
BEGIN:STANDARD
TZOFFSETFROM:+0200
TZOFFSETTO:+0100
TZNAME:CET
DTSTART:20231029T010000
END:STANDARD
END:VTIMEZONE
BEGIN:VEVENT
DTSTART;TZID=Europe/Madrid:20231214T063000
DTEND;TZID=Europe/Madrid:20231215T200000
DTSTAMP:20260425T194013
CREATED:20231103T114446Z
LAST-MODIFIED:20231117T111903Z
UID:75752-1702535400-1702670400@historico.ateneovalencia.es
SUMMARY:Inscripciones abiertas para el Viaje a Madrid-Musical 'El Fantasma de la Ópera'
DESCRIPTION:El Ateneo Mercantil de Valencia ha programado de nuevo el tradicional viaje de Navidades a Madrid para disfrutar de un musical. En esta ocasión\, el musical ofertado es 'El Fantasma de la Ópera' en el Teatro Albéniz. Además\, se completará el viaje con dos visitas guiadas\, la primera de ellas al Palacio Real del Pardo y una segunda a la Galería de las Colecciones Reales (anteriormente Museo de Colecciones Reales) en los jardines del Campo del Moro. La estancia será en el Hotel Emperador y disfrutarán de la gastronomía con dos comidas: una en el restaurante Marisquería Gran Barril y en el restaurante Taberna la Cruzada donde degustarán un buen Cocido Madrileño Completo. \nViaje a Madrid:\nFechas: Jueves 14 y viernes 15 de diciembre de 2023 \nPrecio por persona: 455 euros (Suplemento de Habitación Individual - 85 euros) \nInscripciones abiertas en Secretaría del Ateneo. \nCartel:
URL:https://historico.ateneovalencia.es/evento/inscripciones-abiertas-para-el-viaje-a-madrid-musical-el-fantasma-de-la-opera/
LOCATION:Externo\, Valencia
CATEGORIES:Viajes
ATTACH;FMTTYPE=image/jpeg:https://historico.ateneovalencia.es/wp-content/uploads/2023/11/20231114-Presentacion-del-Viaje-a-Madrid-Musical-Fantasma-Opera.jpg
END:VEVENT
END:VCALENDAR