BEGIN:VCALENDAR
VERSION:2.0
PRODID:-//Ateneo Mercantil de Valencia - ECPv6.0.4//NONSGML v1.0//EN
CALSCALE:GREGORIAN
METHOD:PUBLISH
X-WR-CALNAME:Ateneo Mercantil de Valencia
X-ORIGINAL-URL:https://historico.ateneovalencia.es
X-WR-CALDESC:Eventos para Ateneo Mercantil de Valencia
REFRESH-INTERVAL;VALUE=DURATION:PT1H
X-Robots-Tag:noindex
X-PUBLISHED-TTL:PT1H
BEGIN:VTIMEZONE
TZID:Europe/Madrid
BEGIN:DAYLIGHT
TZOFFSETFROM:+0100
TZOFFSETTO:+0200
TZNAME:CEST
DTSTART:20230326T010000
END:DAYLIGHT
BEGIN:STANDARD
TZOFFSETFROM:+0200
TZOFFSETTO:+0100
TZNAME:CET
DTSTART:20231029T010000
END:STANDARD
END:VTIMEZONE
BEGIN:VEVENT
DTSTART;TZID=Europe/Madrid:20231116T190000
DTEND;TZID=Europe/Madrid:20231116T203000
DTSTAMP:20260425T125544
CREATED:20231110T122643Z
LAST-MODIFIED:20231110T122859Z
UID:75870-1700161200-1700166600@historico.ateneovalencia.es
SUMMARY:Ciclo de Conferencias: Sorolla y los toros
DESCRIPTION:Joaquín Sorolla\, valenciano universal\, maestro de la luz y el color\, será el protagonista de la próxima conferencia en el Ateneo Mercantil de Valencia. Un evento organizado por la Revista Aplausos que servirá para conmemorar el centenario de su muerte. En su vasta y amplia producción pictórica\, el genial artista hizo una breve inmersión en el mundo del toro. De este trabajo surgieron dos de sus obras más representativas de temática taurina\, El encierro (1914) y Los toreros (1915). \nTítulo: Sorolla y los toros \nConferenciante: Raúl Alonso. Comisario de la Exposición 'La memoria taurina' \nDía: Jueves\, 16 de noviembre de 2023 \nHora: 19 horas \nLugar: Salón Sorolla (5ª planta) \nEntrada libre y gratuita hasta completar aforo. \nCartel:
URL:https://historico.ateneovalencia.es/evento/ciclo-de-conferencias-sorolla-y-los-toros/
LOCATION:Salón Sorolla - Ateneo Mercantil de Valencia\, Plaza del Ayuntamiento 18\, Valencia\, Valencia\, 46002\, España
CATEGORIES:Tertulia Taurina
ATTACH;FMTTYPE=image/jpeg:https://historico.ateneovalencia.es/wp-content/uploads/2023/11/20231116-Sorolla-y-los-toros-1.jpg
END:VEVENT
END:VCALENDAR