BEGIN:VCALENDAR
VERSION:2.0
PRODID:-//Ateneo Mercantil de Valencia - ECPv6.0.4//NONSGML v1.0//EN
CALSCALE:GREGORIAN
METHOD:PUBLISH
X-WR-CALNAME:Ateneo Mercantil de Valencia
X-ORIGINAL-URL:https://historico.ateneovalencia.es
X-WR-CALDESC:Eventos para Ateneo Mercantil de Valencia
REFRESH-INTERVAL;VALUE=DURATION:PT1H
X-Robots-Tag:noindex
X-PUBLISHED-TTL:PT1H
BEGIN:VTIMEZONE
TZID:Europe/Madrid
BEGIN:DAYLIGHT
TZOFFSETFROM:+0100
TZOFFSETTO:+0200
TZNAME:CEST
DTSTART:20190331T010000
END:DAYLIGHT
BEGIN:STANDARD
TZOFFSETFROM:+0200
TZOFFSETTO:+0100
TZNAME:CET
DTSTART:20191027T010000
END:STANDARD
END:VTIMEZONE
BEGIN:VEVENT
DTSTART;TZID=Europe/Madrid:20191017T190000
DTEND;TZID=Europe/Madrid:20191017T210000
DTSTAMP:20260425T214604
CREATED:20191016T075947Z
LAST-MODIFIED:20191016T080802Z
UID:53290-1571338800-1571346000@historico.ateneovalencia.es
SUMMARY:Tertulia Taurina: "Feria de Julio 1919: Gaona\, Joselito y Belmonte con toros de Dª. Carmen de Federico"
DESCRIPTION:La segunda sesión de la Tertulia Taurina del 'curso' será este jueves 17 de octubre a las 19 horas en el séptimo piso del Ateneo Mercantil de Valencia y estará organizada en dos partes. En una primera se volverá a rescatar una crónica de una de las corridas históricas del pasado que se celebraron en Valencia y que tanto éxito tuvieron la pasada temporada\, luego se celebrará el debate abierto habitual de la Tertulia y que en esta ocasión dirigirá y moderará D. Paco Ferri. \nLa corrida que se desgranará será la del pasado 25 de julio de 1919 en la que los maestros Gaona\, Joselito y Belmonte torearon reses de Dª. Carmen de Federico en la Feria de Julio y que traerá el tertuliano habitual D. Salvador Chapa\, quien realizará algunas innovaciones respecto al formato de la pasada temporada. \nCartel:
URL:https://historico.ateneovalencia.es/evento/tertulia-taurina-feria-de-julio-1919-gaona-joselito-y-belmonte-con-toros-de-da-carmen-de-federico/
LOCATION:Sala Multiusos - Tertulia Taurina
CATEGORIES:Tertulia Taurina
ATTACH;FMTTYPE=image/jpeg:https://historico.ateneovalencia.es/wp-content/uploads/2019/10/20191017-Tertulia-Taurina-Feria-Julio-1919-Gaona-Joselito-Belmonte.jpg
END:VEVENT
END:VCALENDAR