BEGIN:VCALENDAR
VERSION:2.0
PRODID:-//Ateneo Mercantil de Valencia - ECPv6.0.4//NONSGML v1.0//EN
CALSCALE:GREGORIAN
METHOD:PUBLISH
X-WR-CALNAME:Ateneo Mercantil de Valencia
X-ORIGINAL-URL:https://historico.ateneovalencia.es
X-WR-CALDESC:Eventos para Ateneo Mercantil de Valencia
REFRESH-INTERVAL;VALUE=DURATION:PT1H
X-Robots-Tag:noindex
X-PUBLISHED-TTL:PT1H
BEGIN:VTIMEZONE
TZID:Europe/Madrid
BEGIN:DAYLIGHT
TZOFFSETFROM:+0100
TZOFFSETTO:+0200
TZNAME:CEST
DTSTART:20190331T010000
END:DAYLIGHT
BEGIN:STANDARD
TZOFFSETFROM:+0200
TZOFFSETTO:+0100
TZNAME:CET
DTSTART:20191027T010000
END:STANDARD
END:VTIMEZONE
BEGIN:VEVENT
DTSTART;TZID=Europe/Madrid:20190704T190000
DTEND;TZID=Europe/Madrid:20190704T203000
DTSTAMP:20260424T145321
CREATED:20190701T114817Z
LAST-MODIFIED:20190703T133239Z
UID:49196-1562266800-1562272200@historico.ateneovalencia.es
SUMMARY:Presentación del Libro 'Manolete en Valencia' de Paco Laguna y Toni Gázquez
DESCRIPTION:El próximo jueves 4 de julio a las 19.30 horas se presenta en el Salón Stolz del Ateneo Mercantil un libro sobre la vida de Manolete que han escrito dos de las personas que más conocen la figura del legendario torero cordobés\, Paco Laguna quien es el mayor experto en la figura de Manuel  Rodríguez 'Manolete'\, y Toni Gázquez\, director del Centro de Asuntos Taurinos de la Diputación de Valencia\, y un gran amigo de la Tertulia Taurina del Ateneo. El libro de Paco Laguna y Toni Gázquez repasa la vida y la obra del torero cordobés y su presencia y relación con la ciudad de Valencia. Presenta el acto el periodista especializado taurino de Las Provincias y director de la Revista Aplausos\, D. José Luis Benlloch. \nUn gran libro enciclopédico exhaustivo de una figura que se conviritió en referente social de su época. La figura de Manolete siempre ha sido muy admirada en Valencia\, un torero muy querido en esta tierra y que se comprobó en 2017 cuando nuestra casa acogió la exposición de Manolete que constó de 54 fotografías de Finezas desconocidas y también varios trajes de luces y utensilios de uno de los toreros que más hizo por la tauromaquia en nuestro país\, ya que su figura siempre causaba una gran repercución a todos los niveles de la vida. \nCartel:
URL:https://historico.ateneovalencia.es/evento/presentacion-del-libro-manolete-en-valencia-de-paco-laguna-y-toni-gazquez/
LOCATION:Salón Stolz - Ateneo Mercantil de Valencia\, Plaza del Ayuntamiento\, 18\, Valencia\, España\, Valencia\, Valencia\, 46002\, España
CATEGORIES:Tertulia Taurina
ATTACH;FMTTYPE=image/jpeg:https://historico.ateneovalencia.es/wp-content/uploads/2019/07/20190704-Libro-Manolote-en-Valencia.jpg
END:VEVENT
END:VCALENDAR