BEGIN:VCALENDAR
VERSION:2.0
PRODID:-//Ateneo Mercantil de Valencia - ECPv6.0.4//NONSGML v1.0//EN
CALSCALE:GREGORIAN
METHOD:PUBLISH
X-WR-CALNAME:Ateneo Mercantil de Valencia
X-ORIGINAL-URL:https://historico.ateneovalencia.es
X-WR-CALDESC:Eventos para Ateneo Mercantil de Valencia
REFRESH-INTERVAL;VALUE=DURATION:PT1H
X-Robots-Tag:noindex
X-PUBLISHED-TTL:PT1H
BEGIN:VTIMEZONE
TZID:Europe/Madrid
BEGIN:DAYLIGHT
TZOFFSETFROM:+0100
TZOFFSETTO:+0200
TZNAME:CEST
DTSTART:20180325T010000
END:DAYLIGHT
BEGIN:STANDARD
TZOFFSETFROM:+0200
TZOFFSETTO:+0100
TZNAME:CET
DTSTART:20181028T010000
END:STANDARD
END:VTIMEZONE
BEGIN:VEVENT
DTSTART;TZID=Europe/Madrid:20180118T190000
DTEND;TZID=Europe/Madrid:20180118T210000
DTSTAMP:20260423T040114
CREATED:20180117T164427Z
LAST-MODIFIED:20180117T164427Z
UID:29174-1516302000-1516309200@historico.ateneovalencia.es
SUMMARY:Tertulia Taurina: Primer encuentro del año 2018
DESCRIPTION:Ya se ha elaborado el calendario y la estructura de las próximas reuniones de la Tertulia Taurina del Ateneo Mercantil. Este jueves 18 de enero será la primera de las reuniones de este mes\, mientras que la segunda será el próximo 25 de enero. Hay que recordar que la tertulia dará comienzo a las 19.00 horas; en la siguiente media hora se leerán las noticias y las efemérides del día o la semana\, mientras que de 19.30 a 20 horas se hablará del tema del día y éste dará pasao a la tertulia que durará una hora aproximadamente. De 20 a 21 horas la tertulia es abierta y la moderan D. Salvador Boix\, D. Paco Ferri y D. Nicasio Jiménez. \nLas siguientes reuniones en los próximo meses serán: \n-Febrero: Los días 1\, 8\, 15 y 22. \n-Marzo: Los días 1\, 8 y 22. Además\, el día 22 se llevará a cabo la votación para elegir al triunfador de la feria de Fallas al Premio Distinción. \n-Abril: Los días 12\, 19 y 26 \n-Mayo: Los días 3\, 10\, 17\, 24 y 31. \n-Junio: Los días 7\, 14\, 21 y 28. \n-Julio: el día 5. \nHay que aclarar que los jueves que coincida la Tertulia Histórica con la Corrida de Toros Televisada se dará prioridad a ésta última. Asimismo\, el primer día de tertulia de Septiembre\, se realizará la votación final para otorgar el PREMIO DISTINCIÓN. Los actos extraordinarios se comunicarán por los medios habituales.
URL:https://historico.ateneovalencia.es/evento/tertulia-taurina-primer-encuentro-del-ano-2018/
LOCATION:Sala Fundación - Ateneo Mercantil de Valencia\, Plaza del Ayuntamiento\, 18\, Valencia\, España\, Valencia\, Valencia\, 46002\, España
CATEGORIES:Tertulia Taurina
ATTACH;FMTTYPE=image/jpeg:https://historico.ateneovalencia.es/wp-content/uploads/2018/01/20180118-Tertulia-Taurina.jpg
END:VEVENT
END:VCALENDAR